BEGIN:VCALENDAR
PRODID:NingEventWidget-v1
VERSION:2.0
METHOD:PUBLISH
BEGIN:VEVENT
UID:1171189:Event:26835
DTSTAMP:20260421T083047Z
SUMMARY:Jill And The Peacocks
DESCRIPTION:Jill Peacock is a singer/songwriter from Toronto, Canada. 
 She is currently attending Berklee College of Music and is based in Bo
 ston, Massachusetts. She has been playing piano since she was eight an
 d has a significant classical background, receiving the highest honors
  at the Royal conservatory of Toronto in Piano Performance. Here in Bo
 sotn, she has been lucky enough to perform at Cafe 939, The BPC and ha
 s shared the stage with Layla Hathaway and Esperanza Spalding at the S
 tepping Out Gala last fall and Zilli Misik this winter. She also has a
  passion for world music and has been hosting a radio program called W
 anderlust on the BIRN. She is currently interning at World Music/CRASH
 arts, a world music booking agency. She feels so lucky to have amazing
  musicians to play with her and is currently looking to perform in and
  around boston as soon as possible.\n\nFor more information visit http
 ://neighborsforneighbors.org/events/jill-and-the-peacocks
DTSTART:20090806T020000Z
DTEND:20090806T050000Z
CATEGORIES:jazz, and, blues
LOCATION:The Alchemist Lounge
WEBSITE:http://Alchemistlounge.com
URL:http://Alchemistlounge.com
CONTACT:617-477-5741
ORGANIZER;CN=Lyndon:http://neighborsforneighbors.org/profile/Lyndon
ATTACH;FMTTYPE="image/jpeg":http://storage.ning.com/topology/rest/1.0/
 file/get/2245118101?profile=original
ATTENDEE;ROLE=REQ-PARTICIPANT;PARTSTAT=ACCEPTED;RSVP=TRUE;CN=Lyndon:ht
 tp://neighborsforneighbors.org/profile/Lyndon
END:VEVENT
END:VCALENDAR
