BEGIN:VCALENDAR
PRODID:NingEventWidget-v1
VERSION:2.0
METHOD:PUBLISH
BEGIN:VEVENT
UID:1171189:Event:43410
DTSTAMP:20260421T221018Z
SUMMARY:Jim Hurst - \"Theory of Musical Relativity\" Guitar Workshop
DESCRIPTION:\"Theory of Musical Relativity\" - Guitar Workshop by Jim 
 Hurst\n\n\"If you play guitar around the house, in weekend bands, or f
 or a living, my guess is you have questions about something to do with
  being a better guitar player than you are currently. My workshop titl
 e should give you an indication of my thoughts about it, how we relate
  our musical likes and desires to the instrument(s) we play. How to be
 come aware of the fretboard and our accomplishments to this point and 
 make the best use of it all. I cover many facets of musical abilities,
  understandings, fundamentals, practice and performance tips, the impo
 rtance of melody, right hand exercises and techniques for single and m
 ulti-string improvement, Left hand challenges and exercises, chord pos
 itions, and scale importance. I adapt the workshop to many accomplishm
 ent levels, and while it is a guitar workshop, it is not restricted to
  guitar. I also welcome and invite flatpicking and fingerstyle players
 . While some of the workshops I do tend to have a bluegrass music flav
 or, I welcome any acoustic players.\n\n\"You are encouraged to bring a
 udio recording devices (sorry, video not allowed) to record the worksh
 op, but I must state that no sharing of the recordings are allowed. No
 te taking is always allowed and encouraged. I suggest attendees bring 
 any questions to the workshop.\n\n*No tablature or notation is provide
 d or used, but discussion of this is likely.\n\n\"Come on out and let'
 s learn something together.\"\n\nWorkshop only: $50 regular, $45 peopl
 e who reserve through notlobreservations@gmail.com, $40 students/senio
 rs, $30 Berklee/NEC/Emerson consortium college students enrolled in mu
 sic programs.\n\n....and that same evening Jim will be giving a solo a
 coustic concert at the nearby Loring Greenough House, details at\nhttp
 ://www.facebook.com/event.php?eid=112464855451047&ref=ts\n& http://jam
 aicaplain.neighborsforneighbors.org/events/notlob-parlour-concerts-1\n
 \nWorkshop & evening concert combo - The workshop price above + $10.\n
 \nConcert only: Suggested donation $20- at the door; $15- if reservati
 on is made at least 24 hours in advance and Tuesday Club members; $12-
  for students and seniors; $50 - max on families. Addition of a $1/per
 son “preservation fee” that goes to the LG House.\n\nMore informat
 ion / register by email to notlobreservations @gmail.com\n\nRESERVATIO
 NS REQUIRED.\n\nPARKING: Recommend the large public lot behind Blancha
 rd's Liquors. Also available on the street (meters).\n\nCHAIRS: Bring 
 your own armless chair or stool.\n\n\n============\n\nTwo-time IBMA gu
 itarist of the year, multi-award winning guitarist in Bluegrass, as we
 ll as country, and other acoustic music genres, Jim is known throughou
 t the Nashville TN area as one of the best in the business. His talent
 s of singing, multi-instrumentalist abilities and well-rounded styling
 s have garnered him support positions and recording sessions with some
  of the best artists in Country and Bluegrass music. Trisha Yearwood, 
 Sara Evans, Holly Dunn, Claire Lynch, Travis Tritt, John Cowan, Mark S
 chatz, Tim O'Brien and more.\n\n“Jim is what I consider genius level
  as a player and a thinker.”\n~ Claire Lynch\n\nJim's website ~ http
 ://www.jimhurst.com/\n\nJim's Facebook fan page ~ http://www.facebook.
 com/pages/Jim-Hurst-Fan-Page/118927888131479\n\nIf you are unable to a
 ttend, two other Massachusetts workshops are offered:\n5/12 - Lexingto
 n - http://www.facebook.com/event.php?eid=117646604921813&ref=ts\n5/13
  - Worcester - http://www.facebook.com/event.php?eid=117433784955135&r
 ef=ts\n\nFor more information visit http://neighborsforneighbors.org/e
 vents/jim-hurst-theory-of-musical
DTSTART:20100515T170000Z
DTEND:20100515T200000Z
CATEGORIES:workshop, "&", concert
LOCATION:Temple Sound & Stage
WEBSITE:http://maps.google.com/maps?hl=en&q=670+centre+st+jamaica+plai
 n+ma&ie=UTF8&hq=&hnear=670+Centre+St,+Boston,+Suffolk,+Massachusetts+0
 2130&gl=us&ei=E0TqS_SSGYT48Ab948XiDg&ved=0CBMQ8gEwAA&z=16
URL:http://maps.google.com/maps?hl=en&q=670+centre+st+jamaica+plain+ma
 &ie=UTF8&hq=&hnear=670+Centre+St,+Boston,+Suffolk,+Massachusetts+02130
 &gl=us&ei=E0TqS_SSGYT48Ab948XiDg&ved=0CBMQ8gEwAA&z=16
CONTACT:360-840-3803
ORGANIZER;CN="Jeff Boudreau":http://neighborsforneighbors.org/profile/
 JeffBoudreau
ATTACH;FMTTYPE="image/jpeg":http://storage.ning.com/topology/rest/1.0/
 file/get/2202585946?profile=original
ATTENDEE;ROLE=REQ-PARTICIPANT;PARTSTAT=ACCEPTED;RSVP=TRUE;CN="Jeff Bou
 dreau":http://neighborsforneighbors.org/profile/JeffBoudreau
END:VEVENT
END:VCALENDAR
