BEGIN:VCALENDAR
PRODID:NingEventWidget-v1
VERSION:2.0
METHOD:PUBLISH
BEGIN:VEVENT
UID:1171189:Event:46100
DTSTAMP:20260421T172013Z
SUMMARY:Jodi Hopkins
DESCRIPTION:Super Summer Yard Sale--\n\nDesigner rugs 6 x 9; household
  decor, linens, clothes, cool gear\n\nFor more information visit http:
 //neighborsforneighbors.org/events/jodi-hopkins
DTSTART:20100612T120000Z
DTEND:20100612T170000Z
CATEGORIES:yard, sale
LOCATION:Near Pond in Hyde Sq
WEBSITE:
URL:
CONTACT:
ORGANIZER;CN="Jodi Hopkins":http://neighborsforneighbors.org/profile/J
 odiHopkins
ATTACH;FMTTYPE="image/jpeg":
ATTENDEE;ROLE=REQ-PARTICIPANT;PARTSTAT=ACCEPTED;RSVP=TRUE;CN="Jodi Hop
 kins":http://neighborsforneighbors.org/profile/JodiHopkins
END:VEVENT
END:VCALENDAR
