BEGIN:VCALENDAR
PRODID:NingEventWidget-v1
VERSION:2.0
METHOD:PUBLISH
BEGIN:VEVENT
UID:1171189:Event:97223
DTSTAMP:20260421T190433Z
SUMMARY:Joey Abarta & Paddy League w/ special guest Nathan Gourley
DESCRIPTION:notloB Parlour Concerts is proud to present for our 100th 
 concert, Joey Abarta and Paddy League with special guest Nathan Gourle
 y! Traditional Irish music on the uilleann pipes, supported by Greek b
 ouzuki and fiddle! Suggested donation $15-20+ plus $1 preservation fee
  Several of our recent Celtic concerts have sold out, make a reservati
 on now to insure a seat - notlobreservations@gmail.com notloB website 
 - https://sites.google.com/site/notlobmusic/  Joey Abarta has spent th
 e last ten years of his life touring North America, Europe, and Asia, 
 teaching and performing music on the uilleann pipes. A Los Angeles nat
 ive, he first received instruction on the pipes from Dubliner Pat D’
 Arcy, a founding member of the Southern California Uilleann Pipers Clu
 b. His musical skills have been further honed by several visits to Ire
 land, a year-long stint working in Japan, and continuing relationships
  with master pipers. In August of 2009, Joey’s accomplished playing 
 won him an All-Ireland championship, placing second worldwide at the F
 leadh Cheoil na hEireann. Currently based in Boston, Joey divides his 
 attention between performance, teaching, and recording. In addition to
  performing solo, he tours with Mick Moloney and the group The Green F
 ields of America; while at home, he organizes the meetings of the Bost
 on Pipers Club, teaches for Comhaltas’ Boston Music School, and orga
 nizes various traditional music concerts and events. His debut solo al
 bum is due out this June. http://joeyabarta.com/  Paddy League's intui
 tive accompaniment style — on bodhran, guitar, and bouzouki — prov
 ides irresistible rhythm and a distinctive traditional sound. With a l
 ife-long passion for both Irish and Greek traditional music, Paddy is 
 a multi-instrumentalist who is also influenced by many of the world’
 s vernacular and art music traditions, from the Mediterranean to Brazi
 l. He exhibits vitality and a natural touch on every instrument, and a
 n exceptional ability to respond to often hidden nuances in a tune. Hi
 s renderings of traditional songs, along with many of his own instrume
 ntal compositions, highlight his multi-faceted musicianship and bring 
 great variety to his music. Paddy has performed extensively throughout
  North America, Brazil, Greece, Cyprus, Turkey, and Europe, and been f
 eatured on over one hundred recordings.  Fiddler Nathan Gourley hails 
 from Madison, Wisconsin, where he grew up in a musical family that oft
 en traveled to folk and fiddle festivals across the country. Now based
  in the Twin Cities, Nathan puts his passion for Irish music into prac
 tice as a member of The Máirtín de Cógáin Project, The Doon Ceili 
 Band, and O’Rourke’s Feast. He can also be found at the MSP airpor
 t en route to many yearly excursions to Ireland, New York, Chicago and
  other hotbeds of traditional Irish music. Upcoming: 5/31 - the Darol 
 Anger Grant Gordy Joe Walsh Karl Doty Quartet - email for details - no
 tlobreservations at gmail.com 6/2 - 6th anniversary open house - https
 ://www.facebook.com/events/121426704689986/\n\nFor more information vi
 sit http://neighborsforneighbors.org/events/joey-abarta-paddy-league-w
 -special-guest-nathan-gourley
DTSTART:20130518T000000Z
DTEND:20130518T020000Z
CATEGORIES:concert
LOCATION:Loring-Greenough House
WEBSITE:http://goo.gl/maps/Ial8m
URL:http://goo.gl/maps/Ial8m
CONTACT:413-658-4585
ORGANIZER;CN="Jeff Boudreau":http://neighborsforneighbors.org/profile/
 JeffBoudreau
ATTACH;FMTTYPE="image/jpeg":http://storage.ning.com/topology/rest/1.0/
 file/get/2058922744?profile=original
ATTENDEE;ROLE=REQ-PARTICIPANT;PARTSTAT=ACCEPTED;RSVP=TRUE;CN="Jeff Bou
 dreau":http://neighborsforneighbors.org/profile/JeffBoudreau
END:VEVENT
END:VCALENDAR
