BEGIN:VCALENDAR
PRODID:NingEventWidget-v1
VERSION:2.0
METHOD:PUBLISH
BEGIN:VEVENT
UID:1171189:Event:92178
DTSTAMP:20260421T172902Z
SUMMARY:John Coltrane Memorial Concert: \"35th Annual\" featuring Terr
 i Lyne Carrington and honoring Andy McGhee & Steve Schwartz
DESCRIPTION:Friends of the John Coltrane Memorial Concert presents the
  35th Annual John Coltrane Memorial Concert. Featuring Terri Lyne Carr
 ington; honoring Andy McGhee and Steve Schwartz; hosted by Eric Jackso
 n. Tickets (prices include box office service charge): $35 general adm
 ission, students $30; special VIP section: $40.   The 35th anniversary
  of the John Coltrane Memorial Concert (JCMC) features 2012 Grammy-Awa
 rd winning master drummer, composer, arranger, record producer and ent
 repreneur Terri Lyne Carrington. In JCMC tradition, WGBH’s Eric Jack
 son presides over this year's concert which honors Steve Schwartz, hig
 hly acclaimed jazz producer and radio personality, and Andy McGhee, ma
 ster saxophonist and educator recognized as Boston's \"golden man of j
 azz.\"  This year’s John Coltrane Memorial Ensemble features some of
  the leading musicians of our time who also happen to be Boston-based.
  Along with long time JCMC core members Bill Pierce (reeds/woodwinds),
  Carl Atkins (reeds/woodwinds), Stan Strickland (reeds/woodwinds), Joh
 n Lockwood (acoustic bass) and Tim Ingles (electric bass), this year
 s concert will feature the first time appearances of pianist Consuelo
  Candelaria-Barry and guitarist/composer Bill Banfield, who also serve
 s as Head of Africana Studies at Berklee College of Music. The 35th an
 niversary Ensemble also includes JCMC co-founder and co-producer Leona
 rd Brown (reeds/woodwinds), as well as Ricardo Monzon (percussion), JC
 MC co-producer Emmett G. Price III (piano/keyboards), and special gues
 t Terri Lyne Carrington on drums.  The 2012 Ensemble will perform a re
 pertoire of all Coltrane compositions, including “Moment’s Notice,
 ” “Central Park West, “ “Impressions”, “After the Rain,”
  The Father and the Son and the Holy Ghost,” and a ‘Trane blues me
 dley. In what has become a JCMC tradition, the Ensemble will close wit
 h “Peace on Earth.”  John Coltrane Memorial Concert, the world’s
  oldest annual performance tribute to the musical & spiritual legacy o
 f John Coltrane, is presented by the Friends of the John Coltrane Memo
 rial Concert, Inc. (FJCMC). Producers of the concert are Leonard Brown
  and Emmett G. Price III.\n\nFor more information visit http://neighbo
 rsforneighbors.org/events/john-coltrane-memorial-concert-35th-annual-f
 eaturing-terri-lyne
DTSTART:20121103T233000Z
DTEND:20121104T013000Z
CATEGORIES:jazz, concert, music, contemporary, modern
LOCATION:Blackman Theatre
WEBSITE:http://www.jcmc.neu.edu
URL:http://www.jcmc.neu.edu
CONTACT:(617) 671-0789
ORGANIZER:Friends of the John Coltrane Memorial Concert
ATTACH;FMTTYPE="image/jpeg":http://storage.ning.com/topology/rest/1.0/
 file/get/2245140217?profile=original
ATTENDEE;ROLE=REQ-PARTICIPANT;PARTSTAT=ACCEPTED;RSVP=TRUE;CN="Mary Cur
 tin":http://neighborsforneighbors.org/profile/MaryCurtin
END:VEVENT
END:VCALENDAR
