BEGIN:VCALENDAR
PRODID:NingEventWidget-v1
VERSION:2.0
METHOD:PUBLISH
BEGIN:VEVENT
UID:1171189:Event:59088
DTSTAMP:20260421T182512Z
SUMMARY:Joy to the World and to JP
DESCRIPTION:A Christmas Sing-along with Performances by Local Musician
 s\n\nFor more information visit http://neighborsforneighbors.org/event
 s/joy-to-the-world-and-to-jp
DTSTART:20101219T233000Z
DTEND:20101220T010000Z
CATEGORIES:christmas, music
LOCATION:River of Life Church
WEBSITE:http://maps.google.com/maps?f=q&source=s_q&hl=en&geocode=&q=44
 0+Centre+Street,+Boston,+MA&sll=37.0625,-95.677068&sspn=34.259599,79.0
 13672&ie=UTF8&hq=&hnear=440+Centre+St,+Boston,+Suffolk,+Massachusetts+
 02130&z=16
URL:http://maps.google.com/maps?f=q&source=s_q&hl=en&geocode=&q=440+Ce
 ntre+Street,+Boston,+MA&sll=37.0625,-95.677068&sspn=34.259599,79.01367
 2&ie=UTF8&hq=&hnear=440+Centre+St,+Boston,+Suffolk,+Massachusetts+0213
 0&z=16
CONTACT:617-524-3478
ORGANIZER:Jonathan Parker
ATTACH;FMTTYPE="image/jpeg":http://storage.ning.com/topology/rest/1.0/
 file/get/2058919867?profile=original
ATTENDEE;ROLE=REQ-PARTICIPANT;PARTSTAT=ACCEPTED;RSVP=TRUE;CN=Jonathan:
 http://neighborsforneighbors.org/profile/Jonathan
ATTENDEE;ROLE=REQ-PARTICIPANT;PARTSTAT=TENTATIVE;RSVP=TRUE;CN="Laura K
 ":http://neighborsforneighbors.org/profile/LauraK
END:VEVENT
END:VCALENDAR
