BEGIN:VCALENDAR
PRODID:NingEventWidget-v1
VERSION:2.0
METHOD:PUBLISH
BEGIN:VEVENT
UID:1171189:Event:46085
DTSTAMP:20260421T194455Z
SUMMARY:JP Bikes Ride to World's End
DESCRIPTION:Come ride the MBTA ferry and check out beautiful World's E
 nd in Hingham. We'll meet at Ferris Wheels in Jamaica Plain at 10:30, 
 depart for Long Wharf at 10:45. Our ferry leaves Long Wharf at 11:45 A
 M and arrives in Quincy at 12:25 PM ($6 each way). Then it's a 6.5 mil
 e ride to World's End. The ride to World's End is on a busy street som
 e of the way. World's End is a beautiful place for a picnic, great dir
 t roads to ride on, fantastic views of Boston Harbor. Feel free to tak
 e the T to Long Wharf in the morning and just meet us at the ferry. Al
 so, commuter trains from Hingham to South Station are available for th
 ose who don't want to bike home. Ride is 24 miles in total from JP to 
 Hingham and back.\n\nFor more information visit http://neighborsfornei
 ghbors.org/events/jp-bikes-ride-to-worlds-end
DTSTART:20100613T040000Z
DTEND:20100614T035900Z
CATEGORIES:bike, ride
LOCATION:Jamaica Plain, MA
WEBSITE:http://www.jpbikes.org
URL:http://www.jpbikes.org
CONTACT:(617) 981-2955
ORGANIZER:Matthew DeMarrais
ATTACH;FMTTYPE="image/jpeg":
ATTENDEE;ROLE=REQ-PARTICIPANT;PARTSTAT=ACCEPTED;RSVP=TRUE;CN=Sherry:ht
 tp://neighborsforneighbors.org/profile/Sherry23
END:VEVENT
END:VCALENDAR
