BEGIN:VCALENDAR
PRODID:NingEventWidget-v1
VERSION:2.0
METHOD:PUBLISH
BEGIN:VEVENT
UID:1171189:Event:43202
DTSTAMP:20260421T184752Z
SUMMARY:JP Bikes Spring Roll
DESCRIPTION:The Spring Roll is a rolling bike party through Jamaica Pl
 ain and will take place this May 16th starting at the Loring Greenough
  House (across from the Monument where Centre meets South St). Meet up
  at 10 am for bike decorating, some light refreshments, a music soundt
 rack from the \"stereo bike\", and more. At 11 we'll roll up Centre th
 rough Hyde Sq, over to Jackson Sq, down the Southwest Corridor bike pa
 th all the way to Forest Hills, and then up South St to our starting p
 oint. The whole ride is less than 4 miles and will be done at a leisur
 ely bike parade pace.\n\nFor more information visit http://neighborsfo
 rneighbors.org/events/jp-bikes-spring-roll-2
DTSTART:20100516T140000Z
DTEND:20100516T160000Z
CATEGORIES:community, bike, ride
LOCATION:Loring Greenough House
WEBSITE:http://www.jpbikes.org
URL:http://www.jpbikes.org
CONTACT:
ORGANIZER:JP Bikes
ATTACH;FMTTYPE="image/jpeg":http://storage.ning.com/topology/rest/1.0/
 file/get/2245128387?profile=original
ATTENDEE;ROLE=REQ-PARTICIPANT;PARTSTAT=ACCEPTED;RSVP=TRUE;CN="Bob Dizo
 n":http://neighborsforneighbors.org/profile/BobDizon
ATTENDEE;ROLE=REQ-PARTICIPANT;PARTSTAT=ACCEPTED;RSVP=TRUE;CN=Sherry:ht
 tp://neighborsforneighbors.org/profile/Sherry23
END:VEVENT
END:VCALENDAR
