BEGIN:VCALENDAR
PRODID:NingEventWidget-v1
VERSION:2.0
METHOD:PUBLISH
BEGIN:VEVENT
UID:1171189:Event:71575
DTSTAMP:20260421T183727Z
SUMMARY:JP Budget Breakdown
DESCRIPTION:Ward 11 and 19 Democrats and the JP Progressives invite yo
 u to the…\n JP Budget Breakdown\nHow will pending cuts affect JP? Ho
 w do City and State budgets affect us? What can we do about it?\n• H
 ear from JP neighbors and organizations that will be hurt by looming b
 udget cuts.\n• Learn about pending legislation that can stem the tid
 e of annual cuts to our budgets.\n• Discuss actions we can take to h
 alt the assault on essential services.\nModerated by Chuck Collins Dir
 ector of JP Forum\nScheduled to Appear (tentative)\n• Coalition for 
 Our Communities\n• Coalition for Social Justice\n• Community Healt
 h Education & Research Center\n• Ethos\n• JPNDC\n• Mass Budget\n
 • Urban Edge\n\n\nFor more information visit http://neighborsforneig
 hbors.org/events/jp-budget-breakdown
DTSTART:20110511T223000Z
DTEND:20110512T003000Z
CATEGORIES:public, forum
LOCATION:Agassiz School
WEBSITE:
URL:
CONTACT:
ORGANIZER;CN="Melissa Threadgill":http://neighborsforneighbors.org/pro
 file/MelissaThreadgill
ATTACH;FMTTYPE="image/jpeg":
ATTENDEE;ROLE=REQ-PARTICIPANT;PARTSTAT=ACCEPTED;RSVP=TRUE;CN="Melissa 
 Threadgill":http://neighborsforneighbors.org/profile/MelissaThreadgill
END:VEVENT
END:VCALENDAR
