BEGIN:VCALENDAR
PRODID:NingEventWidget-v1
VERSION:2.0
METHOD:PUBLISH
BEGIN:VEVENT
UID:1171189:Event:50802
DTSTAMP:20260421T152845Z
SUMMARY:JP Cookout with Governor Deval Patrick
DESCRIPTION:Come meet the Governor and other electeds and candidates f
 or office. Governor expected to speak by 12:45pm. Also meet your polit
 ically-minded JP neighbors.\n\nHosts: Curtis and Veda Henderson, Karen
  and Tim Wright, Terry Mason and Kevin Batt\n\nFor more information vi
 sit http://neighborsforneighbors.org/events/jp-cookout-with-governor-d
 eval
DTSTART:20100821T160000Z
DTEND:20100821T190000Z
CATEGORIES:political
LOCATION:Jamaica Plain
WEBSITE:http://tinyurl.com/29oqzrg
URL:http://tinyurl.com/29oqzrg
CONTACT:617-942-0021
ORGANIZER;CN="Reuben Kantor":http://neighborsforneighbors.org/profile/
 ReubenKantor
ATTACH;FMTTYPE="image/jpeg":http://storage.ning.com/topology/rest/1.0/
 file/get/2245131008?profile=original
ATTENDEE;ROLE=REQ-PARTICIPANT;PARTSTAT=ACCEPTED;RSVP=TRUE;CN="Reuben K
 antor":http://neighborsforneighbors.org/profile/ReubenKantor
END:VEVENT
END:VCALENDAR
