BEGIN:VCALENDAR
PRODID:NingEventWidget-v1
VERSION:2.0
METHOD:PUBLISH
BEGIN:VEVENT
UID:1171189:Event:75952
DTSTAMP:20260421T201135Z
SUMMARY:JP Family Chorus & Band: Open Sing
DESCRIPTION:NOW FORMING: JP Family Chorus & Band\nCome to our INTRODUC
 TORY SING: Weds, June 29, 6:30 PM, at the UU Church in JPFor:Individua
 ls & Families, including• Adults• Kids• Seniors• BanjosLooking
  for a chance to make real, quality music from many different genres? 
 Want to meet other JP musicians of all ages? Parents- tired of watchin
 g your kids perform from the audience, or of dragging them along to wa
 tch you perform? Why not sing and play together?Family Choruses, like 
 the Family Folk Chorale in Arlington and the Newton Family Singers, ar
 e catching on as a great way to create community, make music, and have
  a lot of fun in the process.Conducted by Joel Sindelar, conductor of 
 the Newton Family Singers, creator of the Boston Christmas Caroling Mo
 b, director of Suffolk University’s rock band Rhythm, member of the 
 virtuoso vocal trio The Other Georgia and music teacher at the Hurley 
 Elementary School.Suggested Donation: $5-$20 Co-sponsored by: SingPos
 itive.org, The JP Forum, and Spontaneous Celebrations\n\nFor more info
 rmation visit http://neighborsforneighbors.org/events/jp-family-chorus
 -band-open
DTSTART:20110629T223000Z
DTEND:20110630T003000Z
CATEGORIES:singing, meeting
LOCATION:First Church UU in JP
WEBSITE:http://www.facebook.com/event.php?eid=153802998026476
URL:http://www.facebook.com/event.php?eid=153802998026476
CONTACT:617-818-0301
ORGANIZER;CN="Joel SIndelar":http://neighborsforneighbors.org/profile/
 JoelSIndelar
ATTACH;FMTTYPE="image/jpeg":http://storage.ning.com/topology/rest/1.0/
 file/get/2245134774?profile=original
ATTENDEE;ROLE=REQ-PARTICIPANT;PARTSTAT=ACCEPTED;RSVP=TRUE;CN="Joel SIn
 delar":http://neighborsforneighbors.org/profile/JoelSIndelar
END:VEVENT
END:VCALENDAR
