BEGIN:VCALENDAR
PRODID:NingEventWidget-v1
VERSION:2.0
METHOD:PUBLISH
BEGIN:VEVENT
UID:1171189:Event:47573
DTSTAMP:20260421T194035Z
SUMMARY:Jp First Thursday!
DESCRIPTION:JP's monthly art stroll featuring live music by L.A.'s Dei
 dre Moncy at Loring Greenough House, and dozens of art openings and li
 ve music along Centre and South Street. All events are free and open t
 o the public!\n\nFor more information visit http://neighborsforneighbo
 rs.org/events/jp-first-thursday
DTSTART:20100701T220000Z
DTEND:20100702T000000Z
CATEGORIES:art, "&", music
LOCATION:JP Centre/South Street Business District
WEBSITE:http://jpfirstthursdays@blogspot.com
URL:http://jpfirstthursdays@blogspot.com
CONTACT:
ORGANIZER:JP Centre/South Main Streets
ATTACH;FMTTYPE="image/jpeg":http://storage.ning.com/topology/rest/1.0/
 file/get/2245131823?profile=original
ATTENDEE;ROLE=REQ-PARTICIPANT;PARTSTAT=ACCEPTED;RSVP=TRUE;CN="Lynda Wa
 tson":http://neighborsforneighbors.org/profile/LyndaWatson
END:VEVENT
END:VCALENDAR
