BEGIN:VCALENDAR
PRODID:NingEventWidget-v1
VERSION:2.0
METHOD:PUBLISH
BEGIN:VEVENT
UID:1171189:Event:95060
DTSTAMP:20260421T220759Z
SUMMARY:JP Fit Club
DESCRIPTION:The HOTTEST Club in town! Experience the Fit Club phenomen
 on!  Join us for a COMPLIMENTARY WORKOUT! This is meant to be fun! Get
  the chance to try out the best-selling Beachbody® programs for FREE!
    This week we'll be dancing and getting sweaty to Brazil Butt Lift! 
  About Brazil Butt Lift: THE SUPERMODELS' SECRET TO A PERFECT BUTT. We
 're not all lingerie and bikini supermodels. But who says we can't lea
 rn their secrets to getting a firm, lifted butt? Leandro Carvalho, tra
 iner to famous supermodels, combines Brazilian dance, cardio, and his 
 own signature lower-body sculpting moves to help you make your booty y
 our best feature.  Leandro's proven TriAngle Training method works all
  three major muscles of the buttocks from multiple angles to lift your
  butt, reduce your hips and thighs, and tone those stubborn trouble zo
 nes.  WHY FIT CLUB? • Work out to fun music in a hip, high-energy en
 vironment. • Get introduced to cutting-edge fitness programs. • Tr
 y Shakeology®. • ALL fitness levels are welcome!  • It’s 100% F
 REE.  We'll laugh, we'll sweat, and we'll give you a recovery drink wh
 en we're done! It's simple! Our main goal is to get people moving, bur
 n some serious calories and enjoy working out!  Please arrive 15 minut
 es early to sign in. We will start promptly at 6pm. Wear appropriate f
 itness attire. Bring a water bottle, a towel and a friend!  This is th
 e perfect way to start your weekend! Hope to see you there!\n\nFor mor
 e information visit http://neighborsforneighbors.org/events/jp-fit-clu
 b-1
DTSTART:20130322T220000Z
DTEND:20130322T230000Z
CATEGORIES:free, workout
LOCATION:Spontaneous Celbrations in Jamaica Plain
WEBSITE:
URL:
CONTACT:
ORGANIZER;CN="Meghann Martin":http://neighborsforneighbors.org/profile
 /MeghannMartin
ATTACH;FMTTYPE="image/jpeg":
ATTENDEE;ROLE=REQ-PARTICIPANT;PARTSTAT=ACCEPTED;RSVP=TRUE;CN="Meghann 
 Martin":http://neighborsforneighbors.org/profile/MeghannMartin
END:VEVENT
END:VCALENDAR
