BEGIN:VCALENDAR
PRODID:NingEventWidget-v1
VERSION:2.0
METHOD:PUBLISH
BEGIN:VEVENT
UID:1171189:Event:94208
DTSTAMP:20260421T220727Z
SUMMARY:JP Fit Club
DESCRIPTION:The HOTTEST Club in town! Experience the Fit Club phenomen
 on! Join us for a COMPLIMENTARY WORKOUT! This is meant to be fun! Get 
 the chance to try out the best-selling Beachbody® programs for FREE! 
  This week we'll be getting sweaty to LES MILLS PUMP: COMBAT! About LE
 S MILLS COMBAT: The breakthrough is LES MILLS COMBAT—the first home-
 based, mixed martial arts–inspired workout ever put on DVD. In LES M
 ILLS COMBAT, you'll be doing specially selected movements from karate,
  kung fu, tae kwon do, capoeira, boxing, muay thai/kickboxing, and jiu
  jitsu all in one explosive, calorie-scorching workout. With each sequ
 ence, you'll up the intensity, constantly firing your body's fast twit
 ch muscle fibers—the ones with the greatest capacity for change! The
  Fast Twitch Integration Training in LES MILLS COMBAT is the secret to
  burning up to 1,000 calories an hour, while honing incredibly chisele
 d and defined arms, shoulders, legs, and abs. WHY FIT CLUB? • Work o
 ut to fun music in a hip, high-energy environment. • Get introduced 
 to cutting-edge fitness programs. • Try Shakeology®. • ALL fitnes
 s levels are welcome!  • It’s 100% FREE. We'll laugh, we'll sweat,
  and we'll give you a recovery drink when we're done! It's simple! Our
  main goal is to get people moving, burn some serious calories and enj
 oy working out! Please arrive 15 minutes early to sign in. We will sta
 rt promptly at 6pm. Wear appropriate fitness attire. Bring a water bot
 tle, a towel and a friend! This is the perfect way to start your weeke
 nd! Hope to see you there!\n\nFor more information visit http://neighb
 orsforneighbors.org/events/jp-fit-club
DTSTART:20130301T230000Z
DTEND:20130302T000000Z
CATEGORIES:exercise, class, fitness
LOCATION:Spontaneous Celbrations in Jamaica Plain
WEBSITE:
URL:
CONTACT:
ORGANIZER;CN="Meghann Martin":http://neighborsforneighbors.org/profile
 /MeghannMartin
ATTACH;FMTTYPE="image/jpeg":
ATTENDEE;ROLE=REQ-PARTICIPANT;PARTSTAT=ACCEPTED;RSVP=TRUE;CN="Meghann 
 Martin":http://neighborsforneighbors.org/profile/MeghannMartin
END:VEVENT
END:VCALENDAR
