BEGIN:VCALENDAR
PRODID:NingEventWidget-v1
VERSION:2.0
METHOD:PUBLISH
BEGIN:VEVENT
UID:1171189:Event:88894
DTSTAMP:20260421T182818Z
SUMMARY:JP Foodies Night on April 19th at Tres Gatos
DESCRIPTION:As part of our Third Thursdays JP Foodie Night series, we'
 ll be headed out for tapas at Tres Gatos.  Garnering a four star rev
 iew on Yelp, this tapas bar and full-service restaurant/ book and mus
 ic store boasts an impressive and authentic-looking menu.  As well as
  a wide array of unique bottled beers.  We have a chef's table reserv
 ed!\nhttp://tresgatosjp.com/\n\nWhen: April 19th,  7pm\nWhere: Tres G
 atos, 470 Centre Street map  Live music at event.  $7 cover charge\
 n\nCome out and join us!\n\nRSVP with Dan Hermes\n\nFor more informati
 on visit http://neighborsforneighbors.org/events/jp-foodies-night-on-a
 pril-19th-at-tres-gatos
DTSTART:20120419T230000Z
DTEND:20120420T010000Z
CATEGORIES:jp, foodies
LOCATION:Tres Gatos
WEBSITE:http://tresgatosjp.com/
URL:http://tresgatosjp.com/
CONTACT:7815260738
ORGANIZER;CN="Dan Hermes":http://neighborsforneighbors.org/profile/Dan
 Hermes
ATTACH;FMTTYPE="image/jpeg":
ATTENDEE;ROLE=REQ-PARTICIPANT;PARTSTAT=ACCEPTED;RSVP=TRUE;CN="Dan Herm
 es":http://neighborsforneighbors.org/profile/DanHermes
ATTENDEE;ROLE=REQ-PARTICIPANT;PARTSTAT=ACCEPTED;RSVP=TRUE;CN="Dana Ort
 egon":http://neighborsforneighbors.org/profile/DanaOrtegon
ATTENDEE;ROLE=REQ-PARTICIPANT;PARTSTAT=ACCEPTED;RSVP=TRUE;CN="Rebecca 
 F (community manager)":http://neighborsforneighbors.org/profile/Rebecc
 aFiarman
ATTENDEE;ROLE=REQ-PARTICIPANT;PARTSTAT=ACCEPTED;RSVP=TRUE;CN="Maria So
 sa":http://neighborsforneighbors.org/profile/MariaSosa
ATTENDEE;ROLE=REQ-PARTICIPANT;PARTSTAT=ACCEPTED;RSVP=TRUE;CN=Kara:http
 ://neighborsforneighbors.org/profile/Kara608
ATTENDEE;ROLE=REQ-PARTICIPANT;PARTSTAT=ACCEPTED;RSVP=TRUE;CN="Nancy Ba
 rron":http://neighborsforneighbors.org/profile/NancyBarron
END:VEVENT
END:VCALENDAR
