BEGIN:VCALENDAR
PRODID:NingEventWidget-v1
VERSION:2.0
METHOD:PUBLISH
BEGIN:VEVENT
UID:1171189:Event:90644
DTSTAMP:20260421T172926Z
SUMMARY:JP Foodies Night - Wonder Spice Cafe
DESCRIPTION:Their Drunken Noodles intoxicate.  Their Pad Thai satisfi
 es. \nYelp gives them three stars.  I respectfully disagree.  This 
 place consistently serves four-star food. \nJoin us  for an evening
  at Jamaica Plain's standby Thai restaurant to let us know what you t
 hink.\n \n \n\nFor more information visit http://neighborsforneighbo
 rs.org/events/jp-foodies-night-wonder-spice-cafe
DTSTART:20120621T230000Z
DTEND:20120622T010000Z
CATEGORIES:dinner
LOCATION:Wonder Spice Cafe
WEBSITE:http://www.yelp.com/biz/wonder-spice-cafe-jamaica-plain
URL:http://www.yelp.com/biz/wonder-spice-cafe-jamaica-plain
CONTACT:
ORGANIZER;CN="Dan Hermes":http://neighborsforneighbors.org/profile/Dan
 Hermes
ATTACH;FMTTYPE="image/jpeg":
ATTENDEE;ROLE=REQ-PARTICIPANT;PARTSTAT=ACCEPTED;RSVP=TRUE;CN="Maria So
 sa":http://neighborsforneighbors.org/profile/MariaSosa
ATTENDEE;ROLE=REQ-PARTICIPANT;PARTSTAT=ACCEPTED;RSVP=TRUE;CN="Nancy Ba
 rron":http://neighborsforneighbors.org/profile/NancyBarron
ATTENDEE;ROLE=REQ-PARTICIPANT;PARTSTAT=ACCEPTED;RSVP=TRUE;CN="Dan Herm
 es":http://neighborsforneighbors.org/profile/DanHermes
END:VEVENT
END:VCALENDAR
