BEGIN:VCALENDAR
PRODID:NingEventWidget-v1
VERSION:2.0
METHOD:PUBLISH
BEGIN:VEVENT
UID:1171189:Event:78473
DTSTAMP:20260421T214756Z
SUMMARY:JP for Ayanna Pressley Fundraiser
DESCRIPTION:8.11.11_Ayanna_at_Bella_Luna%5B1%5D.pdf\n\nFor more inform
 ation visit http://neighborsforneighbors.org/events/jp-for-ayanna-pres
 sley-fundraiser
DTSTART:20110811T220000Z
DTEND:20110812T000000Z
CATEGORIES:fundraiser
LOCATION:Bella Luna
WEBSITE:http://www.ayannapressley.com/
URL:http://www.ayannapressley.com/
CONTACT:617-561-4230
ORGANIZER;CN="JP for Ayanna":http://neighborsforneighbors.org/profile/
 JPforAyanna
ATTACH;FMTTYPE="image/jpeg":
ATTENDEE;ROLE=REQ-PARTICIPANT;PARTSTAT=ACCEPTED;RSVP=TRUE;CN="JP for A
 yanna":http://neighborsforneighbors.org/profile/JPforAyanna
END:VEVENT
END:VCALENDAR
