BEGIN:VCALENDAR
PRODID:NingEventWidget-v1
VERSION:2.0
METHOD:PUBLISH
BEGIN:VEVENT
UID:1171189:Event:56869
DTSTAMP:20260421T184752Z
SUMMARY:JP Mac Off
DESCRIPTION:Join Gourmet Diva and Jamaica Plain Neighborhood Developme
 nt Corporation (JPNDC) for the ultimate macaroni and cheese cooking co
 mpetition to raise funds for JPNDC's Small Business Program. The Small
  Business Program helps connects our community’s creative entreprene
 urs with the resources they need to be successful.\n\nBe prepared to s
 pend the afternoon sampling macaroni and cheese dishes prepared by ama
 teur, professional and kid chefs. Some of the dishes include, Sultry C
 horizo y Frioles Negros Mac-n-Cheese, Real Deal Mac and Cheese and Cra
 zytown Mac and Cheese. You will also have the opportunity to vote for 
 your favorite chef to win the \"Peoples Choice Award\".\n\nPurchase ti
 ckets at JPNDC.org\n\nIf you would like to enter or sponsor please e-m
 ail info@thegourmetdiva.com or enter online at http://www.thegourmetdi
 va.com/jp-mac-off-competition.html\n\nFor more information visit http:
 //neighborsforneighbors.org/events/jp-mac-off
DTSTART:20101205T213000Z
DTEND:20101206T003000Z
CATEGORIES:fundraiser, cooking, competition
LOCATION:Boylston Congregational Church
WEBSITE:http://www.jpndc.org/news.html#macoff
URL:http://www.jpndc.org/news.html#macoff
CONTACT:
ORGANIZER:Jamaica Plain Neighborhood Development Corp and Gourmet Diva
ATTACH;FMTTYPE="image/jpeg":http://storage.ning.com/topology/rest/1.0/
 file/get/2245131203?profile=original
ATTENDEE;ROLE=REQ-PARTICIPANT;PARTSTAT=ACCEPTED;RSVP=TRUE;CN="Joseph P
 orcelli (Chief Neighbor)":http://neighborsforneighbors.org/profile/jos
 ephporcelli
ATTENDEE;ROLE=REQ-PARTICIPANT;PARTSTAT=ACCEPTED;RSVP=TRUE;CN="Keesha O
 'Galdez":http://neighborsforneighbors.org/profile/KeeshaOGaldez
END:VEVENT
END:VCALENDAR
