BEGIN:VCALENDAR
PRODID:NingEventWidget-v1
VERSION:2.0
METHOD:PUBLISH
BEGIN:VEVENT
UID:1171189:Event:49615
DTSTAMP:20260421T181737Z
SUMMARY:JP Neighborhood Council Meeting
DESCRIPTION:Tonight (July 27) monthly meeting of JP Neighborhood COunc
 il, open to all. Main presentation this month: US Dept of Agriculture 
 on the Asian Longhorned Beetle.\n\nWe meet this month for the first ti
 me at the newly reopened First Baptist Church on Centre St, next to th
 e Post Office, renovated at their devastating fire.\n\nThe JPNC is Jam
 aica Plain's official organization for community and civic engagement.
  For more information about the council, visit jpnc.org.\n\nFor more i
 nformation visit http://neighborsforneighbors.org/events/jp-neighborho
 od-council-1
DTSTART:20100727T230000Z
DTEND:20100728T010000Z
CATEGORIES:community, meeting
LOCATION:First Baptist Church, Jamaica Plain,  MA
WEBSITE:http://www.firstbaptistjp.org
URL:http://www.firstbaptistjp.org
CONTACT:
ORGANIZER;CN="Steven Backman":http://neighborsforneighbors.org/profile
 /StevenBackman
ATTACH;FMTTYPE="image/jpeg":
ATTENDEE;ROLE=REQ-PARTICIPANT;PARTSTAT=ACCEPTED;RSVP=TRUE;CN="Colleen 
 Keller":http://neighborsforneighbors.org/profile/ColleenKeller
ATTENDEE;ROLE=REQ-PARTICIPANT;PARTSTAT=ACCEPTED;RSVP=TRUE;CN="Steven B
 ackman":http://neighborsforneighbors.org/profile/StevenBackman
END:VEVENT
END:VCALENDAR
