BEGIN:VCALENDAR
PRODID:NingEventWidget-v1
VERSION:2.0
METHOD:PUBLISH
BEGIN:VEVENT
UID:1171189:Event:81448
DTSTAMP:20260421T200237Z
SUMMARY:JP Open Studios at the Loring-Greenough House
DESCRIPTION:The Jamaica Plain Open Studios is an annual celebration o
 f the arts in Jamaica Plain that gives the public and artists an oppor
 tunity to connect, converse and deal in art works. Please visit artist
 s and enjoy their works in the historic setting of the Loring-Greenoug
 h House. There will be 10 artists exhibiting inside the house and 7 on
  the grounds. Join us!\n\nFor more information visit http://neighborsf
 orneighbors.org/events/jp-open-studios-at-the-loring-greenough-house
DTSTART:20110924T150000Z
DTEND:20110924T220000Z
CATEGORIES:"open studios"
LOCATION:Loring-Greenough House
WEBSITE:http://loring-greenough.org/
URL:http://loring-greenough.org/
CONTACT:
ORGANIZER:Loring-Greenough House
ATTACH;FMTTYPE="image/jpeg":
ATTENDEE;ROLE=REQ-PARTICIPANT;PARTSTAT=ACCEPTED;RSVP=TRUE;CN="Frances 
 Harrell":http://neighborsforneighbors.org/profile/FrancesHarrell
END:VEVENT
END:VCALENDAR
