BEGIN:VCALENDAR
PRODID:NingEventWidget-v1
VERSION:2.0
METHOD:PUBLISH
BEGIN:VEVENT
UID:1171189:Event:53524
DTSTAMP:20260421T220621Z
SUMMARY:JP Open Studios
DESCRIPTION:My wonderful super-saleswoman Pia Dimm & I will be exhibit
 ing & selling my ceramics during JP Open Studios next weekend (Sept 25
  & 26) at both the Stonybrook Fine Arts Center and in front of Ula Caf
 e. They are around the corner from each other so visit us both!\n\n** 
 also go inside Ula and view a selection of ceramic platters that I wil
 l have hanging on the walls! **\n\nMore info on the event at http://ww
 w.jpopenstudios.com/\nAnd check out a selection of my most recent work
  at http://www.oguskyceramics.com/portfolio\n\nHope to see you there, 
 Jeremy\n\nFor more information visit http://neighborsforneighbors.org/
 events/jp-open-studios
DTSTART:20100925T140000Z
DTEND:20100926T220000Z
CATEGORIES:open, studios
LOCATION:Stonybrook Fine Arts Center and in front of Ula Cafe 24 Porte
 r St and the Brewery Complex
WEBSITE:http://www.jpopenstudios.com
URL:http://www.jpopenstudios.com
CONTACT:
ORGANIZER;CN="jeremy ogusky":http://neighborsforneighbors.org/profile/
 jeremyogusky
ATTACH;FMTTYPE="image/jpeg":http://storage.ning.com/topology/rest/1.0/
 file/get/2245130688?profile=original
ATTENDEE;ROLE=REQ-PARTICIPANT;PARTSTAT=ACCEPTED;RSVP=TRUE;CN="jeremy o
 gusky":http://neighborsforneighbors.org/profile/jeremyogusky
END:VEVENT
END:VCALENDAR
