BEGIN:VCALENDAR
PRODID:NingEventWidget-v1
VERSION:2.0
METHOD:PUBLISH
BEGIN:VEVENT
UID:1171189:Event:50945
DTSTAMP:20260421T183849Z
SUMMARY:JP Progressives Candidates Forum
DESCRIPTION:Please join us at this yearâ€™s JP Progressives Legislativ
 e Candidatesâ€™ Forum!\n\nWeâ€™ve asked all the candidates in the Seco
 nd Suffolk Senate District (Senator Sonia Chang Diaz & Hassan Williams
 ) and the Fifteenth Suffolk House District (Rep. Jeffrey Sanchez & Jef
 f Herman) to fill out our questionnaire and join us at the candidateâ€
 ™s forum.\n\nThese meetings are open to the public, and we highly enco
 urage you to bring your friends and neighbors who might be interested 
 in learning more about these candidates.\n\nLearn more about our group
  at www.jpprogressives.com.\n\nFor more information visit http://neigh
 borsforneighbors.org/events/jp-progressives-candidates
DTSTART:20100825T223000Z
DTEND:20100826T010000Z
CATEGORIES:candidates, forum
LOCATION:Nate Smith House (right near Stonybrook T)
WEBSITE:http://www.jpprogressives.com
URL:http://www.jpprogressives.com
CONTACT:617-435-8386
ORGANIZER:JP Progressives
ATTACH;FMTTYPE="image/jpeg":
ATTENDEE;ROLE=REQ-PARTICIPANT;PARTSTAT=ACCEPTED;RSVP=TRUE;CN="Melissa 
 Threadgill":http://neighborsforneighbors.org/profile/MelissaThreadgill
END:VEVENT
END:VCALENDAR
