BEGIN:VCALENDAR
PRODID:NingEventWidget-v1
VERSION:2.0
METHOD:PUBLISH
BEGIN:VEVENT
UID:1171189:Event:82276
DTSTAMP:20260421T220727Z
SUMMARY:JP Rocks and Rolls art fair
DESCRIPTION:Jamaica Plain Arts and Crafts fair\n\nFor more information
  visit http://neighborsforneighbors.org/events/jp-rocks-and-rolls-art-
 fair
DTSTART:20111106T170000Z
DTEND:20111106T210000Z
CATEGORIES:art, fair
LOCATION:Spontaneous Celebrations
WEBSITE:http://www.jprocksandrolls.com
URL:http://www.jprocksandrolls.com
CONTACT:
ORGANIZER;CN="Jenn Hickey":http://neighborsforneighbors.org/profile/Je
 nnHickey997
ATTACH;FMTTYPE="image/jpeg":http://storage.ning.com/topology/rest/1.0/
 file/get/2066429363?profile=original
ATTENDEE;ROLE=REQ-PARTICIPANT;PARTSTAT=ACCEPTED;RSVP=TRUE;CN="Jenn Hic
 key":http://neighborsforneighbors.org/profile/JennHickey997
END:VEVENT
END:VCALENDAR
