BEGIN:VCALENDAR
PRODID:NingEventWidget-v1
VERSION:2.0
METHOD:PUBLISH
BEGIN:VEVENT
UID:1171189:Event:69188
DTSTAMP:20260421T182105Z
SUMMARY:JP Shopping Spree/JP Compra Aqui!
DESCRIPTION:Come out and support your neighbors on April 16th during t
 he J.P. Shopping Spree.  Our shops will highlight their specialties, 
 offer sales and specials, cooking demos, and tips.  Meet the owners o
 f your neighborhood shops and engage in dialogue about what you're loo
 king for.  Chances are you will find it, and if not, let the local sh
 ops know what they are missing on their shelves.  Find the benefits o
 f shopping locally.Pick up a J.P. Shopping Spree Passport at any of th
 e participating shops the week of the Shopping Spree.  On the 16th, v
 isit 6 shops, and turn your stamped passport in for a raffle.  Winner
 s will receive gift certificates, specials, discounts and more from ou
 r local shops.\nThere has been plenty of energy in the neighborhood ov
 er the Hi-Lo/Whole Foods space.  Whatever your opinion is, we want to
  invite you to continue to support our current small businesses in J.P
 !!!\n\nFor more information visit http://neighborsforneighbors.org/eve
 nts/jp-shopping-spreejp-compra
DTSTART:20110416T160000Z
DTEND:20110416T200000Z
CATEGORIES:local, shopping
LOCATION:Crystal Fruit, 278 Centre Street and all of JP
WEBSITE:http://www.buylocaljp.com
URL:http://www.buylocaljp.com
CONTACT:617-522-7752
ORGANIZER:City Feed, Jamey Lionette, Betsy Cowan, Carlos Schilacci, Ra
 ndace Moore and many MORE!
ATTACH;FMTTYPE="image/jpeg":http://storage.ning.com/topology/rest/1.0/
 file/get/2245132491?profile=original
ATTENDEE;ROLE=REQ-PARTICIPANT;PARTSTAT=ACCEPTED;RSVP=TRUE;CN="Betsy Co
 wan":http://neighborsforneighbors.org/profile/BetsyCowan
END:VEVENT
END:VCALENDAR
