BEGIN:VCALENDAR
PRODID:NingEventWidget-v1
VERSION:2.0
METHOD:PUBLISH
BEGIN:VEVENT
UID:1171189:Event:88914
DTSTAMP:20260421T172230Z
SUMMARY:JP Spring Fling Clothing Swap Fundraiser
DESCRIPTION:Swapping is not only a great way to revamp your wardrobe a
 nd have a ball – it is also a super environmentally-friendly thing t
 o do. You’re diverting clothes from landfills, cutting carbon emissi
 ons, opting for fashion without exploitation and saving money!\nProcee
 ds benefit First Church in Jamaica Plain, and remaining clothing will 
 be donated to Goodwill.\nMen's and women's clothing - all sizes and al
 l seasons.  One for one exchange.  Refreshments, music, raffle, FUN!
 \nTickets are $12 in advance through Brown Paper Tickets, $15 at the d
 oor (cash only). Volunteers get in FREE .\n$2.oo cash back if you drop
  your clothes off in advance. \nContact Sarah Hawkins at FirstChurchS
 wap@gmail.com to find out how you can volunteer and to make drop off a
 rrangements.\nFor more info, see my blog post at  http://bit.ly/HfrF
 Em\nThanks, and happy swapping!\n\nFor more information visit http://n
 eighborsforneighbors.org/events/jp-spring-fling-clothing-swap-fundrais
 er
DTSTART:20120414T170000Z
DTEND:20120414T200000Z
CATEGORIES:clothing, swap, fundraiser
LOCATION:First Church in Jamaica Plain (near the Monument)
WEBSITE:http://www.firstchurchjp.org/home/
URL:http://www.firstchurchjp.org/home/
CONTACT:
ORGANIZER;CN="Sarah Martin Hawkins":http://neighborsforneighbors.org/p
 rofile/SarahMartin
ATTACH;FMTTYPE="image/jpeg":
ATTENDEE;ROLE=REQ-PARTICIPANT;PARTSTAT=ACCEPTED;RSVP=TRUE;CN="Sarah Ma
 rtin Hawkins":http://neighborsforneighbors.org/profile/SarahMartin
END:VEVENT
END:VCALENDAR
