BEGIN:VCALENDAR
PRODID:NingEventWidget-v1
VERSION:2.0
METHOD:PUBLISH
BEGIN:VEVENT
UID:1171189:Event:84145
DTSTAMP:20260421T171712Z
SUMMARY:JP Stitch & Bitch
DESCRIPTION:This is an open group for crafty people in and around JP t
 o meet up for knitting, crochet, sewing, book binding, scrap booking, 
 drawing, and any other art or craft project. Anyone and everyone is we
 lcome, regardless of your craft or skill level! \nWe meet every other 
 Sunday at Ula Cafe, usually at 3pm. Check the JP Stitch & Bitch Facebo
 ok page for up-to-date info.\n\nFor more information visit http://neig
 hborsforneighbors.org/events/jp-stitch-bitch-1
DTSTART:20111023T190000Z
DTEND:20111023T230000Z
CATEGORIES:stitch, "up!"
LOCATION:Ula Cafe
WEBSITE:http://www.facebook.com/groups/jpstitch
URL:http://www.facebook.com/groups/jpstitch
CONTACT:
ORGANIZER;CN=Matt:http://neighborsforneighbors.org/profile/Matt
ATTACH;FMTTYPE="image/jpeg":http://storage.ning.com/topology/rest/1.0/
 file/get/2245136137?profile=original
ATTENDEE;ROLE=REQ-PARTICIPANT;PARTSTAT=ACCEPTED;RSVP=TRUE;CN=Matt:http
 ://neighborsforneighbors.org/profile/Matt
END:VEVENT
END:VCALENDAR
