BEGIN:VCALENDAR
PRODID:NingEventWidget-v1
VERSION:2.0
METHOD:PUBLISH
BEGIN:VEVENT
UID:1171189:Event:57802
DTSTAMP:20260421T200045Z
SUMMARY:JP Stitch & Bitch Stitch-up!
DESCRIPTION:This is an open group for crafty people in and around JP t
 o meet up for knitting, crochet, sewing, book binding, scrap booking, 
 drawing, and any other art or craft project. Anyone and everyone is we
 lcome, regardless of your craft or skill level!\n\nhttp://jamaicaplain
 .neighborsforneighbors.org/group/jpstitchbitch\n\nFor more information
  visit http://neighborsforneighbors.org/events/jp-stitch-bitch-stitchu
 p-4
DTSTART:20101121T200000Z
DTEND:20101122T000000Z
CATEGORIES:"stitch-up!"
LOCATION:Ula Café
WEBSITE:http://ulacafe.com/
URL:http://ulacafe.com/
CONTACT:
ORGANIZER:JP Stitch & Bitch
ATTACH;FMTTYPE="image/jpeg":http://storage.ning.com/topology/rest/1.0/
 file/get/2245131099?profile=original
ATTENDEE;ROLE=REQ-PARTICIPANT;PARTSTAT=ACCEPTED;RSVP=TRUE;CN=Matt:http
 ://neighborsforneighbors.org/profile/Matt
END:VEVENT
END:VCALENDAR
