BEGIN:VCALENDAR
PRODID:NingEventWidget-v1
VERSION:2.0
METHOD:PUBLISH
BEGIN:VEVENT
UID:1171189:Event:53561
DTSTAMP:20260421T201822Z
SUMMARY:JP Stitch & Bitch Stitch-up!
DESCRIPTION:Now that the raccoon has been caught, we're safe to knit o
 n the streets. More specifically at Ula Café this Sunday.\n\nJP Stitc
 h & Bitch is an open group for crafty people in JP to meet up for knit
 ting, crochet, sewing, book binding, scrap booking, drawing, and any o
 ther art or craft project. Anyone and everyone is welcome!\n\nFor more
  information visit http://neighborsforneighbors.org/events/jp-stitch-b
 itch-stitchup
DTSTART:20100926T190000Z
DTEND:20100926T230000Z
CATEGORIES:"stitch-up!"
LOCATION:Ula Café
WEBSITE:http://ulacafe.com/
URL:http://ulacafe.com/
CONTACT:
ORGANIZER;CN=Matt:http://neighborsforneighbors.org/profile/Matt
ATTACH;FMTTYPE="image/jpeg":http://storage.ning.com/topology/rest/1.0/
 file/get/2245130729?profile=original
ATTENDEE;ROLE=REQ-PARTICIPANT;PARTSTAT=ACCEPTED;RSVP=TRUE;CN=Matt:http
 ://neighborsforneighbors.org/profile/Matt
END:VEVENT
END:VCALENDAR
