BEGIN:VCALENDAR
PRODID:NingEventWidget-v1
VERSION:2.0
METHOD:PUBLISH
BEGIN:VEVENT
UID:1171189:Event:53199
DTSTAMP:20260421T194054Z
SUMMARY:JP Stitch & Bitch
DESCRIPTION:Back by popular demand... the JP S&B Revival was a success
 !\n\nWe talked about meeting every other week, but we can try every we
 ek, too.\n\nThis is an open group for crafty people in JP to meet up f
 or knitting, crochet, sewing, book binding, scrap booking, drawing, an
 d any other art or craft project. Anyone and everyone is welcome!\n\nF
 or more information visit http://neighborsforneighbors.org/events/jp-s
 titch-bitch
DTSTART:20100919T190000Z
DTEND:20100919T230000Z
CATEGORIES:craftiness, for, all
LOCATION:Ula Café
WEBSITE:http://ulacafe.com/
URL:http://ulacafe.com/
CONTACT:
ORGANIZER;CN=Matt:http://neighborsforneighbors.org/profile/Matt
ATTACH;FMTTYPE="image/jpeg":http://storage.ning.com/topology/rest/1.0/
 file/get/2245130772?profile=original
ATTENDEE;ROLE=REQ-PARTICIPANT;PARTSTAT=ACCEPTED;RSVP=TRUE;CN="Sheila P
 ickard":http://neighborsforneighbors.org/profile/SheilaPickard
ATTENDEE;ROLE=REQ-PARTICIPANT;PARTSTAT=ACCEPTED;RSVP=TRUE;CN=Matt:http
 ://neighborsforneighbors.org/profile/Matt
END:VEVENT
END:VCALENDAR
