BEGIN:VCALENDAR
PRODID:NingEventWidget-v1
VERSION:2.0
METHOD:PUBLISH
BEGIN:VEVENT
UID:1171189:Event:51391
DTSTAMP:20260421T192117Z
SUMMARY:JP Writers' get-together
DESCRIPTION:Do you like to write, want to share your writing or hear w
 hat others have written? Do you just need a place to get something wro
 te?\n\nWell then you should join us. Agenda, to be determined by the g
 roup.\n\nRSVP and I'll message you my address.\n\nJoseph\n\nFor more i
 nformation visit http://neighborsforneighbors.org/events/jp-writers-ge
 ttogether
DTSTART:20100825T000000Z
DTEND:20100825T020000Z
CATEGORIES:writting
LOCATION:Joseph's pad
WEBSITE:
URL:
CONTACT:857-222-4420
ORGANIZER;CN="Joseph Porcelli (Chief Neighbor)":http://neighborsfornei
 ghbors.org/profile/josephporcelli
ATTACH;FMTTYPE="image/jpeg":
ATTENDEE;ROLE=REQ-PARTICIPANT;PARTSTAT=ACCEPTED;RSVP=TRUE;CN=shannon:h
 ttp://neighborsforneighbors.org/profile/shannon
ATTENDEE;ROLE=REQ-PARTICIPANT;PARTSTAT=ACCEPTED;RSVP=TRUE;CN="Joseph P
 orcelli (Chief Neighbor)":http://neighborsforneighbors.org/profile/jos
 ephporcelli
END:VEVENT
END:VCALENDAR
