BEGIN:VCALENDAR
PRODID:NingEventWidget-v1
VERSION:2.0
METHOD:PUBLISH
BEGIN:VEVENT
UID:1171189:Event:51601
DTSTAMP:20260421T201823Z
SUMMARY:JP Writers September 21 WriteUp
DESCRIPTION:Agenda:\n\n7:45 to 8:00 pm. Hang out and Mingle (optional)
 .\n8:00 to 9:00 pm. Intros, housekeeping, writing.\n9:00 to 9:30 pm. R
 eading and or Feedback.\n\nRSVP and I'll send you my address where we 
 are meeting\n\nFor more information visit http://neighborsforneighbors
 .org/events/jp-writers-september-21
DTSTART:20100921T234500Z
DTEND:20100922T013000Z
CATEGORIES:writers, gathering
LOCATION:Joseph's Pad
WEBSITE:http://jamaicaplain.neighborsforneighbors.org/group/jpwriters
URL:http://jamaicaplain.neighborsforneighbors.org/group/jpwriters
CONTACT:857-222-4420
ORGANIZER;CN="Joseph Porcelli (Chief Neighbor)":http://neighborsfornei
 ghbors.org/profile/josephporcelli
ATTACH;FMTTYPE="image/jpeg":
ATTENDEE;ROLE=REQ-PARTICIPANT;PARTSTAT=ACCEPTED;RSVP=TRUE;CN="Joseph P
 orcelli (Chief Neighbor)":http://neighborsforneighbors.org/profile/jos
 ephporcelli
ATTENDEE;ROLE=REQ-PARTICIPANT;PARTSTAT=ACCEPTED;RSVP=TRUE;CN=shannon:h
 ttp://neighborsforneighbors.org/profile/shannon
END:VEVENT
END:VCALENDAR
