BEGIN:VCALENDAR
PRODID:NingEventWidget-v1
VERSION:2.0
METHOD:PUBLISH
BEGIN:VEVENT
UID:1171189:Event:59501
DTSTAMP:20260421T200212Z
SUMMARY:JPNC 2010 December Council Meeting
DESCRIPTION:The regular monthly meeting of the JPNC will be held on Tu
 esday, December 14th at The First Baptist Church in Jamaica Plain, 633
  Centre Street (corner Myrtle Street), starting at 7:00 PM.\n \nThe 
 agenda will include:\n\nPlanning out next meeting focused on recent vi
 olence\nHoliday Party\nCatch up on committee reports\nPlan reschedule 
 of cpcay & centre/south\nFilling the vacant seat in Area-A (nomination
 s are now closed)\n\n\n\nFor more information visit http://neighborsfo
 rneighbors.org/events/jpnc-2010-december-council
DTSTART:20101215T000000Z
DTEND:20101215T020000Z
CATEGORIES:community, meeting
LOCATION:The First Baptist Church
WEBSITE:http://jpnc.org
URL:http://jpnc.org
CONTACT:
ORGANIZER;CN="Daniel Perez Lacera":http://neighborsforneighbors.org/pr
 ofile/DanielPerezLacera
ATTACH;FMTTYPE="image/jpeg":
ATTENDEE;ROLE=REQ-PARTICIPANT;PARTSTAT=ACCEPTED;RSVP=TRUE;CN="Daniel P
 erez Lacera":http://neighborsforneighbors.org/profile/DanielPerezLacer
 a
END:VEVENT
END:VCALENDAR
