BEGIN:VCALENDAR
PRODID:NingEventWidget-v1
VERSION:2.0
METHOD:PUBLISH
BEGIN:VEVENT
UID:1171189:Event:63122
DTSTAMP:20260421T194051Z
SUMMARY:JPNDC mtg: support Hi-Lo workers
DESCRIPTION:\nJPNDC has scheduled a planning and strategy meeting abou
 t the Hi-Lo/Whole Foods issue for this Wednesday, January 26th, 6:30PM
  @ the Blessed Sacrament retail space located at 363-365 Centre St. Th
 e focus o f this meeting will be to strategize on ways to support the
  current Hi-Lo employees and residents, mainly Latinos, who shop at Hi
 -Lo. We will also plan for the upcoming larger community meetings that
  are being planned including one by the JP Neighborhood Council. The m
 eeting will be conducted in Spanish and we will have an interpreter th
 ere for English-only speakers and we will also provide child care. We 
 are reaching out to other organizations to help with this meeting. Our
  outreach for this meeting is focused on residents and merchants who a
 re impacted by the Hi-Lo closing as well as JP allies. As you know and
  understand, our main concern is creating a space in which folks are c
 omfortable in sharing their views and concerns so we hope that our all
 ies attend the meeting but respect this process.\n\nContact JPNDC for 
 more information: 617-522-2424\n\nFor more information visit http://ne
 ighborsforneighbors.org/events/jpndc-mtg-support-hilo-workers
DTSTART:20110126T233000Z
DTEND:20110127T010000Z
CATEGORIES:information, meeting
LOCATION:Blessed Sacrament retail space
WEBSITE:
URL:
CONTACT:
ORGANIZER:JPNDC
ATTACH;FMTTYPE="image/jpeg":
ATTENDEE;ROLE=REQ-PARTICIPANT;PARTSTAT=ACCEPTED;RSVP=TRUE;CN="Robbie S
 amuels":http://neighborsforneighbors.org/profile/RobbieSamuels
ATTENDEE;ROLE=REQ-PARTICIPANT;PARTSTAT=TENTATIVE;RSVP=TRUE;CN="Gabe Na
 rdie":http://neighborsforneighbors.org/profile/GabeNardie
END:VEVENT
END:VCALENDAR
