BEGIN:VCALENDAR
PRODID:NingEventWidget-v1
VERSION:2.0
METHOD:PUBLISH
BEGIN:VEVENT
UID:1171189:Event:45462
DTSTAMP:20260421T200344Z
SUMMARY:JP's Fitness Solutions - FitCamp
DESCRIPTION:4 week group fitness program. Fun, innovative workouts and
  a great group of people! Join us for the June session! MWF at 6am or 
 7am from June 7, 2010 to July 2, 2010.\nRegister here\n\nFor more info
 rmation visit http://neighborsforneighbors.org/events/jps-fitness-solu
 tions-fitcamp
DTSTART:20100607T100000Z
DTEND:20100607T120000Z
CATEGORIES:group, fitness
LOCATION:Jamaica Plain (neart Stonybrook T Stop)
WEBSITE:http://www.myjpfitness.com
URL:http://www.myjpfitness.com
CONTACT:617-435-0213
ORGANIZER:JP's Fitness Solutions
ATTACH;FMTTYPE="image/jpeg":http://storage.ning.com/topology/rest/1.0/
 file/get/2245129885?profile=original
ATTENDEE;ROLE=REQ-PARTICIPANT;PARTSTAT=ACCEPTED;RSVP=TRUE;CN=Jackie:ht
 tp://neighborsforneighbors.org/profile/Jackie
END:VEVENT
END:VCALENDAR
