BEGIN:VCALENDAR
PRODID:NingEventWidget-v1
VERSION:2.0
METHOD:PUBLISH
BEGIN:VEVENT
UID:1171189:Event:96110
DTSTAMP:20260421T204029Z
SUMMARY:Judith Conrad, forte piano, and the Delight Consort
DESCRIPTION:Judith Conrad with the Delight Consort (Paul Ukleja, Corne
 tt, Recorder, Irish Tinwhistle, Otto Guzman, Cello, Cornett and Record
 er Frank Fitzpatrick, Recorder, Sackbutt) present a program of late 18
 th c. genre of music for piano with instrumental accompaniment, includ
 ingÂ  works of C.F. Fischer, W. Williams, W.A. Mozart and J.C. Bach, a
 t the Loring Greenough House, on Sunday, April 21, 2013, at 3:00 p.m.,
  at the historic Loring-Greenough House, 12 South Street, Jamaica Plai
 n MA. This concert will welcome home the reconditioned box forte piano
 . The Forte Piano at the Loring-greenough House was made in London in 
 1790 by the firmof Longman and Bropirp. Since its 1999 restoration, wh
 en it was displayed as part of the Boston Early Music Festival, the fo
 rte piano has been featured annually in the Sunday Afternoon at the â
 Greenough House parlor concert series. For the past season, it has be
 en in the workshop of Tim Hamilton, who originally restored it in 1999
 . Now, it is back at the Loring-Greenough House for us all to enjoy.Me
 et the artists at afternoon tea following the program.Â Â  Â Â Â  Â Â 
 Â  Â Â Â  Â The Sunday Afternoon at the âGreenough House series recr
 eates the atmosphere of 18th and 19th century âmusical afternoonsâ
  in the 1760 Loring-Greenough House, twice monthly, October to May. Ti
 ckets are available at the door: donation $15 ($10 seniors, students a
 nd JPTC members). Space is limited; reservations are suggestedâcall 
 617-524-3158 or email lghouseconcerts@aim.com.\n\nFor more information
  visit http://neighborsforneighbors.org/events/judith-conrad-forte-pia
 no-and-the-delight-consort
DTSTART:20130421T190000Z
DTEND:20130421T213000Z
CATEGORIES:parlor, concert, and, tea
LOCATION:Loring-Greenough House,
WEBSITE:http://www.Loring-Greenough.org
URL:http://www.Loring-Greenough.org
CONTACT:617-524-3158
ORGANIZER;CN="Loring-Greenough House Concerts":http://neighborsforneig
 hbors.org/profile/LoringGreenoughHouseConserts
ATTACH;FMTTYPE="image/jpeg":http://storage.ning.com/topology/rest/1.0/
 file/get/2245141197?profile=original
ATTENDEE;ROLE=REQ-PARTICIPANT;PARTSTAT=ACCEPTED;RSVP=TRUE;CN="Loring-G
 reenough House Concerts":http://neighborsforneighbors.org/profile/Lori
 ngGreenoughHouseConserts
END:VEVENT
END:VCALENDAR
