BEGIN:VCALENDAR
PRODID:NingEventWidget-v1
VERSION:2.0
METHOD:PUBLISH
BEGIN:VEVENT
UID:1171189:Event:58461
DTSTAMP:20260421T190055Z
SUMMARY:Julie Metcalf and Mariel Vandersteel - presented by notloB Par
 lour Concerts
DESCRIPTION:Suggested donation $12 at the door; $10 if reservation is 
 made at least 24 hours in advance and to Loring-Greenough museum membe
 rs.\n\nReservations: notlobreservations at gmail dot com\n\nArtist’s
  websites: http://www.myspace.com/juliemetcalf http://marielvanderstee
 l.com/Mariel_Vandersteel\n\nOfficial website: http://sites.google.com/
 site/notlobmusic\n\n~ notloB Folk Concerts is pleased to welcome back 
 two alumna, Julie Metcalf (from the Folk Arts Quartet) and Mariel Vand
 ersteel (from Blue Moose and the Unbuttoned Zippers).\n\nFiddler JULIE
  METCALF began as a classical violinist in Worcester, MA. Coming from 
 a family of musicians, she was encouraged to make music from an early 
 age; Julie picked up the violin for the first time when she was 4 year
 s old and has been playing ever since. When she was twelve, Julie disc
 overed fiddle music and jazz through PBS and country radio, and began 
 learning Celtic tunes on her own.\n\nJulie studied classical violin at
  Boston University's College of Fine Arts. Recently, she has immersed 
 herself in the study of both traditional folk and contemporary styles 
 of music, including Celtic, Appalachian, bluegrass, jazz, and Latin mu
 sic. She is a graduate of Berklee College of Music with a degree in Vi
 olin Performance. Julie plays viola in the Paper Star Trio, formerly t
 he Folk Arts Quartet. The Paper Star Trio is a grooving chamber-folk s
 tring ensemble that plays contemporary arrangements of world fiddle mu
 sic. She can also be spotted playing violin with Mariachi Palenque.\n\
 nMARIEL VANDERSTEEL ~ Inspired by her summers spent studying tradition
 al music in Ireland and across the united states, Mariel decided to st
 udy music in norway after graduating from Berklee. She is studying the
  hardingfele and Norwegian folk music at høgskolen i telemark rauland
 .\n\nWhile in Norway, she has performed at outdoor festivals and in th
 e local elementary school where she taught children about American fol
 k music.\nMariel has taught at alasdair fraser’s sierra fiddle camp,
  has been an assistant teacher at fiddlekids, a San Francisco Bay Area
  fiddle camp for children, and has shared the stage with Alasdair Fras
 er, Laura Risk, Hanneke Cassel, Natalie Haas, Tristan and Tashina Clar
 ridge, Nic Gareiss, André Brunet, and Philip Bailey of Earth Wind and
  Fire.\n\nShe currently lives in Norway and will return to Boston in 2
 010 where she will teach the fiddle and hardingfele and perform with B
 lue Moose and the Unbuttoned Zippers and the Paper Star Trio.\n\nDoors
  7:30, Concert 8:00\nCoffee, tea and pastries will be available.\n\nno
 tloB Folk Concerts are volunteer run and not for profit. All intereste
 d in volunteering are encouraged to send an email to notlobreservation
 s at gmail dot com\n\nWebsite ~ http://sites.google.com/site/notlobmus
 ic\n\nFacebook ~ http://www.facebook.com/pages/notloB-Folk-Concerts/11
 8395891509908\n\nMail list ~ http://groups.google.com/group/notlobmusi
 c\n\nFor more information visit http://neighborsforneighbors.org/event
 s/julie-metcalf-and-mariel
DTSTART:20101205T010000Z
DTEND:20101205T030000Z
CATEGORIES:concert
LOCATION:Loring-Greenough House
WEBSITE:http://maps.google.com/maps?f=q&source=s_q&hl=en&geocode=&q=12
 +South+Street,+Boston,+MA&sll=42.443759,-71.622286&sspn=0.010482,0.022
 724&ie=UTF8&hq=&hnear=12+South+St,+Boston,+Suffolk,+Massachusetts+0211
 0&z=16
URL:http://maps.google.com/maps?f=q&source=s_q&hl=en&geocode=&q=12+Sou
 th+Street,+Boston,+MA&sll=42.443759,-71.622286&sspn=0.010482,0.022724&
 ie=UTF8&hq=&hnear=12+South+St,+Boston,+Suffolk,+Massachusetts+02110&z=
 16
CONTACT:774-293-1251
ORGANIZER;CN="Jeff Boudreau":http://neighborsforneighbors.org/profile/
 JeffBoudreau
ATTACH;FMTTYPE="image/jpeg":http://storage.ning.com/topology/rest/1.0/
 file/get/2245132034?profile=original
ATTENDEE;ROLE=REQ-PARTICIPANT;PARTSTAT=ACCEPTED;RSVP=TRUE;CN="Jeff Bou
 dreau":http://neighborsforneighbors.org/profile/JeffBoudreau
END:VEVENT
END:VCALENDAR
