BEGIN:VCALENDAR
PRODID:NingEventWidget-v1
VERSION:2.0
METHOD:PUBLISH
BEGIN:VEVENT
UID:1171189:Event:47519
DTSTAMP:20260421T165925Z
SUMMARY:JULY ART OPENING
DESCRIPTION:Oakland, California artist Daniel Backman will have his mi
 xed media collages on display, along with local artists Kasey Davis Ap
 pleman and Robert Festa July 1st-31st. Appleman is a Roslindale artist
  featuring mixed media found object works. Festa is an architect/photo
 grapher showcasing his latest photography from around the area. Backma
 n, once a JP resident, is back in his old stomping grounds to showcase
  his work in JP's newest art gallery.\n\nFor more information visit ht
 tp://neighborsforneighbors.org/events/july-art-opening
DTSTART:20100701T220000Z
DTEND:20100702T010000Z
CATEGORIES:art, opening
LOCATION:the hallway gallery
WEBSITE:http://www.thehallwayjp.com
URL:http://www.thehallwayjp.com
CONTACT:617-818-5996
ORGANIZER;CN="Brent Refsland":http://neighborsforneighbors.org/profile
 /BrentRefsland
ATTACH;FMTTYPE="image/jpeg":http://storage.ning.com/topology/rest/1.0/
 file/get/2245130526?profile=original
ATTENDEE;ROLE=REQ-PARTICIPANT;PARTSTAT=ACCEPTED;RSVP=TRUE;CN="Brent Re
 fsland":http://neighborsforneighbors.org/profile/BrentRefsland
END:VEVENT
END:VCALENDAR
