BEGIN:VCALENDAR
PRODID:NingEventWidget-v1
VERSION:2.0
METHOD:PUBLISH
BEGIN:VEVENT
UID:1171189:Event:45130
DTSTAMP:20260421T165723Z
SUMMARY:JUNE Opening Reception
DESCRIPTION:Stop by and check out June's featured artists Fran Majusky
  and John Steck Jr.\n\nOpening Reception: 1st Thursday 6-9pm\nNew Hour
 s: Thursday 4-8pm, Friday/Saturday 11-7pm, Sunday 12-4pm.\n\nFor more 
 information visit http://neighborsforneighbors.org/events/june-opening
 -reception
DTSTART:20100603T220000Z
DTEND:20100604T010000Z
CATEGORIES:art, opening
LOCATION:the hallway gallery
WEBSITE:http://www.thehallwayjp.com
URL:http://www.thehallwayjp.com
CONTACT:617-818-5996
ORGANIZER;CN="Brent Refsland":http://neighborsforneighbors.org/profile
 /BrentRefsland
ATTACH;FMTTYPE="image/jpeg":http://storage.ning.com/topology/rest/1.0/
 file/get/2245130107?profile=original
ATTENDEE;ROLE=REQ-PARTICIPANT;PARTSTAT=ACCEPTED;RSVP=TRUE;CN="Brent Re
 fsland":http://neighborsforneighbors.org/profile/BrentRefsland
END:VEVENT
END:VCALENDAR
