BEGIN:VCALENDAR
PRODID:NingEventWidget-v1
VERSION:2.0
METHOD:PUBLISH
BEGIN:VEVENT
UID:1171189:Event:62987
DTSTAMP:20260421T201816Z
SUMMARY:Just Breathe:  Learn to Meditate
DESCRIPTION:Would you like to learn to cultivate peaceful states of mi
 nd?\nDuring this series, learn what meditation is, how to begin a dail
 y meditation practice, special meditations to shift ouyr minds and pra
 ctical tips to maintain a meditation practice. Classes include a short
  talk and guided meditations.\nNo meditation experience is necessary. 
 Everyone is welcome!\n \nClass fee:  $8\n\nHOW TO FIND US IN THE BUI
 LDING:\nWhen looking at front of church, walk up drive on LEFT of chur
 ch entrance, past sign for Capen Hall, to door at left rear. (We will 
 post sign for meditation class) Walk down hall to Keltie Chapel, where
  you will find us. Please be quiet when entering as there is a yoga/me
 ditation class going on prior to the start of our class so we do not d
 isturb them. THANK YOU!\n\nSerlingpa Meditation Center http://meditati
 oninmass.org/\n\nFor more information visit http://neighborsforneighbo
 rs.org/events/just-breathe-learn-to
DTSTART:20110127T000000Z
DTEND:20110210T010000Z
CATEGORIES:meditation, class
LOCATION:Hope Central Church
WEBSITE:http://www.meetup.com/Serlingpa-Buddhist-Meditation-Center-JP/
URL:http://www.meetup.com/Serlingpa-Buddhist-Meditation-Center-JP/
CONTACT:508-979-8277
ORGANIZER;CN="Debra Acquavella":http://neighborsforneighbors.org/profi
 le/DebraAcquavella
ATTACH;FMTTYPE="image/jpeg":http://storage.ning.com/topology/rest/1.0/
 file/get/2159724647?profile=original
ATTENDEE;ROLE=REQ-PARTICIPANT;PARTSTAT=ACCEPTED;RSVP=TRUE;CN="Debra Ac
 quavella":http://neighborsforneighbors.org/profile/DebraAcquavella
END:VEVENT
END:VCALENDAR
