BEGIN:VCALENDAR
PRODID:NingEventWidget-v1
VERSION:2.0
METHOD:PUBLISH
BEGIN:VEVENT
UID:1171189:Event:57280
DTSTAMP:20260421T231950Z
SUMMARY:J-Way Electic String Quartet atLoring-Greenough House
DESCRIPTION:J-Way, a string quartet of Jamaica Plain residents Catheri
 ne Bent (cello), Helen Sherrah-Davies (violin, 5-string violin), Tomok
 o Omura (violin, percussion), and Tomoko Iwamoto (violin, viola) will 
 offer a program featuring original pieces by J-Way and other modern cl
 assical selections, on Sunday, November 21, at 3:00 pm. at the histori
 c Loring-Greenough House, 12 South Street, Jamaica Plain.\n\nThe serie
 s recreates the atmosphere of 18th and 19th century “musical afterno
 ons” in the 1760 Loring-Greenough House on the first and third Sunda
 ys of each month, October through May. Tickets are available at the do
 or: donation $15 ($10 seniors, students and JPTC members). Space is li
 mited; reservations are suggested—call 617-524-3158 or email lghouse
 concerts@aim.com. Afternoon tea follows the program.\n\nFor more infor
 mation visit http://neighborsforneighbors.org/events/jway-electic-stri
 ng-quartet
DTSTART:20101121T200000Z
DTEND:20101121T220000Z
CATEGORIES:parlor, concert, and, tea
LOCATION:Loring-Greenough House, 12 South St, Jamaica Plain
WEBSITE:http://www.Loring-Greenough.org
URL:http://www.Loring-Greenough.org
CONTACT:617-524-3158
ORGANIZER;CN="Loring-Greenough House Concerts":http://neighborsforneig
 hbors.org/profile/LoringGreenoughHouseConserts
ATTACH;FMTTYPE="image/jpeg":http://storage.ning.com/topology/rest/1.0/
 file/get/2245131507?profile=original
ATTENDEE;ROLE=REQ-PARTICIPANT;PARTSTAT=ACCEPTED;RSVP=TRUE;CN="Loring-G
 reenough House Concerts":http://neighborsforneighbors.org/profile/Lori
 ngGreenoughHouseConserts
END:VEVENT
END:VCALENDAR
