BEGIN:VCALENDAR
PRODID:NingEventWidget-v1
VERSION:2.0
METHOD:PUBLISH
BEGIN:VEVENT
UID:1171189:Event:35913
DTSTAMP:20260421T202030Z
SUMMARY:King Cobra Comedy Chateau
DESCRIPTION:This is a free stand up comedy showcase at my friend Jenny
 's house. Message me for details.\n\nhttp://www.facebook.com/event.php
 ?eid=314698639850&ref=ts\n\nFor more information visit http://neighbor
 sforneighbors.org/events/king-cobra-comedy-chateau
DTSTART:20100224T010000Z
DTEND:20100224T030000Z
CATEGORIES:comedy, party
LOCATION:King Cobra Comedy Chateua
WEBSITE:
URL:
CONTACT:
ORGANIZER;CN="Rob Crean":http://neighborsforneighbors.org/profile/RobC
 rean
ATTACH;FMTTYPE="image/jpeg":http://storage.ning.com/topology/rest/1.0/
 file/get/2245124667?profile=original
ATTENDEE;ROLE=REQ-PARTICIPANT;PARTSTAT=ACCEPTED;RSVP=TRUE;CN="Rob Crea
 n":http://neighborsforneighbors.org/profile/RobCrean
END:VEVENT
END:VCALENDAR
