BEGIN:VCALENDAR
PRODID:NingEventWidget-v1
VERSION:2.0
METHOD:PUBLISH
BEGIN:VEVENT
UID:1171189:Event:122894
DTSTAMP:20260421T204240Z
SUMMARY:Kite and Bike Festival
DESCRIPTION:The Annual FPC Kite & Bike Festival is held on the Frankli
 n Park Golf Course. Come fly kites, ride your bike, and enjoy food fro
 m one of Boston’s food trucks!\n\nFor more information visit http://
 neighborsforneighbors.org/events/kite-amp-bike-festival
DTSTART:20180519T150000Z
DTEND:20180519T200000Z
CATEGORIES:festival
LOCATION:Franklin Park Clubhouse
WEBSITE:http://www.franklinparkcoalition.org/event/kite-bike-festival/
URL:http://www.franklinparkcoalition.org/event/kite-bike-festival/
CONTACT:8572002643
ORGANIZER:Samantha Wechsler
ATTACH;FMTTYPE="image/jpeg":http://storage.ning.com/topology/rest/1.0/
 file/get/2245143063?profile=original
ATTENDEE;ROLE=REQ-PARTICIPANT;PARTSTAT=ACCEPTED;RSVP=TRUE;CN="Christin
 e Poff":http://neighborsforneighbors.org/profile/ChristinePoff67
END:VEVENT
END:VCALENDAR
