BEGIN:VCALENDAR
PRODID:NingEventWidget-v1
VERSION:2.0
METHOD:PUBLISH
BEGIN:VEVENT
UID:1171189:Event:87114
DTSTAMP:20260421T185947Z
SUMMARY:L.A.U.G.H.S. For Autism
DESCRIPTION:Laughing At and Understanding Good Humor Seminars (L.A.U.G
 .H.S.) Institute, Inc. is having an introductory seminar on the therap
 eutic benefits of humor and laughter.Â  The seminar is for parents, fa
 mily members, caregivers, providers, teachers, family nurturing center
 s, clinicians and autism support groups.Â  L.A.U.G.H.S. will introduce
  the participants to its innovative 7- week series L.A.U.G.H.S. for Pa
 rents Raising Autistic Children.Â  Participants will\n\nLearn how to m
 aintain their sense of humor during difficult parenting and care givin
 g situations.\nDiscover how to effectively manage parental stress usin
 g humor and laughter\nLearn why mothers who are raising children with 
 autism have higher parental stress\nLearn about family stress and auti
 sm\nLeant about resources and recommended readings\nLearn about curren
 t research on autism and humor\n\nParticipants will benefit most from 
 this FREE community event if they are:\n\nA parent, family member or a
  child care provider attending to the daily needs of a child with auti
 sm\nExhausted, stressed and overwhelmed caring for a child with autism
 \nParenting other children within the family\nUnhappy with the lack of
  support from family and friends\n\nÂ \nThe first introductory seminar
  is scheduled for Wednesday January 25, 2012 at the Washington Beech C
 ommunity Room at 4560 Washington Street, Roslindale, MA from 6:00 pm â
 €“ 8:00 pm.\nÂ \nDorothea Keeling, President and Founder of Laughing A
 t and Understanding Good Humor Seminars (L.A.U.G.H.S.) Institute, Inc,
  is a registered speaker for the Association of Applied Therapeutic Hu
 mor and adjunct faculty at Urban College of Boston for ten years, will
  facilitate the seminars.Â  Dorothea has over twenty years experience 
 promoting the therapeutic benefits of humor and laughter.\nÂ \nRegistr
 ation is required for the seminars. Participants can register at http:
 //conta.cc/t3dOTI.Â  Please visit L.A.U.G.H.S. website for more inform
 ation at http://www.laughsrus.com.Â  If you want L.A.U.G.H.S. to sched
 ule a seminar at your site please contact Dorothea at dorothea@laughsr
 us.com or call 617-840-3281.\nÂ \n\nFor more information visit http://
 neighborsforneighbors.org/events/l-a-u-g-h-s-for-autism
DTSTART:20120125T230000Z
DTEND:20120126T010000Z
CATEGORIES:free, community, event, for, autism
LOCATION:Washington Beech Community Room
WEBSITE:http://wwww.laughsrus.com
URL:http://wwww.laughsrus.com
CONTACT:617-840-3281
ORGANIZER;CN="dorothea Keeling":http://neighborsforneighbors.org/profi
 le/dorotheaKeeling
ATTACH;FMTTYPE="image/jpeg":
ATTENDEE;ROLE=REQ-PARTICIPANT;PARTSTAT=ACCEPTED;RSVP=TRUE;CN="dorothea
  Keeling":http://neighborsforneighbors.org/profile/dorotheaKeeling
END:VEVENT
END:VCALENDAR
