BEGIN:VCALENDAR
PRODID:NingEventWidget-v1
VERSION:2.0
METHOD:PUBLISH
BEGIN:VEVENT
UID:1171189:Event:86987
DTSTAMP:20260421T223625Z
SUMMARY:L.A.U.G.H.S Ifor Autism
DESCRIPTION:Laughing At & Understanding Good Humor Seminars (L.A.U.G.H
 .S.) Institute, Inc. is having a FREE community forum for parents, fam
 ily members and caregivers who are attending to the daily needs of chi
 ldren who have autism.  Registration is required to participate in th
 is event. This is an introductory seminar to introduce L.A.U.G.H.S. fo
 r Parents Who Are Raising Autistic Children.  Please share this post 
 and help spread the word. Information about the project is available a
 t http://www.laughsrus.com. Register for the event at http://conta.cc/
 t3dOTI\n\nFor more information visit http://neighborsforneighbors.org/
 events/l-a-u-g-h-s-ifor-autism
DTSTART:20120125T230000Z
DTEND:20120126T010000Z
CATEGORIES:free, community, event, for, autism
LOCATION:Washington Beech Community Room
WEBSITE:http://wwww.laughsrus.com
URL:http://wwww.laughsrus.com
CONTACT:617-840-3281
ORGANIZER:Dorothea Keeling
ATTACH;FMTTYPE="image/jpeg":http://storage.ning.com/topology/rest/1.0/
 file/get/2245135462?profile=original
ATTENDEE;ROLE=REQ-PARTICIPANT;PARTSTAT=ACCEPTED;RSVP=TRUE;CN="dorothea
  Keeling":http://neighborsforneighbors.org/profile/dorotheaKeeling
END:VEVENT
END:VCALENDAR
