BEGIN:VCALENDAR
PRODID:NingEventWidget-v1
VERSION:2.0
METHOD:PUBLISH
BEGIN:VEVENT
UID:1171189:Event:82363
DTSTAMP:20260422T080555Z
SUMMARY:L.A.U.G.H.S Institute, Inc.
DESCRIPTION:Good day to all my nfn friends.  I will be interviewed on
  Friday September 30th at 9:00 am on TOUCH 106.1 FM.  TOUCH also stre
 ams their live broadcasts at www.TOUCHFM.ORG.  You can also listen to
  the interview on your cell phone, Blackberry or Iphone.  Their studi
 o line is 617-445-1061.  Please listen and call the studio if they as
 k their listening audience to call in with questions or comments.\n\nF
 or more information visit http://neighborsforneighbors.org/events/l-a-
 u-g-h-s-institute-inc
DTSTART:20110930T130000Z
DTEND:20110930T140000Z
CATEGORIES:radio, interview
LOCATION:TOUCH 106 FM
WEBSITE:
URL:
CONTACT:
ORGANIZER;CN="dorothea Keeling":http://neighborsforneighbors.org/profi
 le/dorotheaKeeling
ATTACH;FMTTYPE="image/jpeg":http://storage.ning.com/topology/rest/1.0/
 file/get/2066429685?profile=original
ATTENDEE;ROLE=REQ-PARTICIPANT;PARTSTAT=ACCEPTED;RSVP=TRUE;CN="dorothea
  Keeling":http://neighborsforneighbors.org/profile/dorotheaKeeling
END:VEVENT
END:VCALENDAR
