BEGIN:VCALENDAR
PRODID:NingEventWidget-v1
VERSION:2.0
METHOD:PUBLISH
BEGIN:VEVENT
UID:1171189:Event:68284
DTSTAMP:20260421T185829Z
SUMMARY:Laboratory: A free night of experimental comedy and music
DESCRIPTION:HEY! You like things, yeah? Well this is TOTALLY a thing. 
 And, it's a FREE thing! Comedy, music, games, alcohol*....basically EV
 ERYTHING that god made for us stupid space apes.Music from DJ Joel Bar
 bieri and www.putthatshitonthelist.com 's very own spokesmodel/Morriss
 ey impersonator, Luke O'Neil You'll see sets from Rob Crean and Lillia
 n DeVane and witness Boston's first ever: 1st-Next-Top-Iron-American\n
 -Smarter than a 5th Gr...ader-Comic Challenge, where YOU the audience 
 will provide a topic and comics will have 10 minutes to come up with a
  5 minute set!! That's what insane people think is a good idea!!With p
 layers:Will Noonan from Two and a Half Men*Will Smalley from Alf*Ted P
 ettingell from Mr. Belvedere*Gary Petersen from They Might Be Giants*L
 angston Kerman from reruns of the Golden Girls*Danny Kelly from My Lit
 tle Pony*and OTHERS from being famous*Come witness the mayhem!SOMEONE 
 MIGHT DIE!*alcohol not included, but if I like the cut of your jib, ma
 ybe I'll buy you a drink*Will Noonan has very nearly never drugged wit
 h Charlie Sheen*Will Smalley is not a muppet*Ted Pettingell thinks \"b
 utler\" is Queen's English for \"slave\"*Gary Petersen can hum pretty 
 well*Langston Kerman has never slept*Danny Kelly is MY little pony. No
 t yours. MINE.Some of the above may or may not be true, but IT ALL IS.
 I love you,Walter Cornelius\n\nFor more information visit http://neigh
 borsforneighbors.org/events/laboratory-a-free-night-of
DTSTART:20110414T010000Z
DTEND:20110414T030000Z
CATEGORIES:free, comedy, show, "jamaica plain"
LOCATION:Milky Way
WEBSITE:http://www.milkywayjp.com
URL:http://www.milkywayjp.com
CONTACT:617-524-6060
ORGANIZER;CN="Walter Cornelius":http://neighborsforneighbors.org/profi
 le/WalterBudzian
ATTACH;FMTTYPE="image/jpeg":http://storage.ning.com/topology/rest/1.0/
 file/get/2245132662?profile=original
ATTENDEE;ROLE=REQ-PARTICIPANT;PARTSTAT=ACCEPTED;RSVP=TRUE;CN="Joseph P
 orcelli (Chief Neighbor)":http://neighborsforneighbors.org/profile/jos
 ephporcelli
ATTENDEE;ROLE=REQ-PARTICIPANT;PARTSTAT=ACCEPTED;RSVP=TRUE;CN="Walter C
 ornelius":http://neighborsforneighbors.org/profile/WalterBudzian
END:VEVENT
END:VCALENDAR
