BEGIN:VCALENDAR
PRODID:NingEventWidget-v1
VERSION:2.0
METHOD:PUBLISH
BEGIN:VEVENT
UID:1171189:Event:34983
DTSTAMP:20260421T212654Z
SUMMARY:\"Ladylike\" at James Gate
DESCRIPTION:JAMES’S GATE GALLERY PRESENTS:\n\n3 X 9\nthree images by
  nine photographers\nfeaturing the works of:\njannine fonte . mike rit
 ter . christine li .\nlars knakkergaard . carl tremblay .\nbrian patri
 ck adams . brent refsland .\nrobert festa . robert sutherby\n\nFor mor
 e information visit http://neighborsforneighbors.org/events/ladylike-a
 t-james-gate
DTSTART:20100216T000000Z
DTEND:20100216T020000Z
CATEGORIES:art, photography, exhibition
LOCATION:James's Gate
WEBSITE:http://maps.google.com/places/us/massachusetts/boston/mcbride-
 st/5/-james%27s-gate?hl=en
URL:http://maps.google.com/places/us/massachusetts/boston/mcbride-st/5
 /-james%27s-gate?hl=en
CONTACT:
ORGANIZER;CN="www.TheBostonHomeTeam.com/blog":http://neighborsforneigh
 bors.org/profile/WilliamBrokhof
ATTACH;FMTTYPE="image/jpeg":http://storage.ning.com/topology/rest/1.0/
 file/get/2245123593?profile=original
ATTENDEE;ROLE=REQ-PARTICIPANT;PARTSTAT=ACCEPTED;RSVP=TRUE;CN="www.TheB
 ostonHomeTeam.com/blog":http://neighborsforneighbors.org/profile/Willi
 amBrokhof
END:VEVENT
END:VCALENDAR
