BEGIN:VCALENDAR
PRODID:NingEventWidget-v1
VERSION:2.0
METHOD:PUBLISH
BEGIN:VEVENT
UID:1171189:Event:35446
DTSTAMP:20260421T150847Z
SUMMARY:Lars Vegas \" The One & Only\"
DESCRIPTION:ALCHEMIST\n\n2/18/2010 10:30 PM at Lars Vegas- The One And
  Only\n435 South Huntington Avenue, Jamaica Plain, Massachusetts 02130
 \nCost: Always Free\n\nLars Vegas is impressive and gained a lot of at
 tention, e.g. some of the songs were used on the soundtrack of the Mir
 amay film “Next Stop Wonderland“ and as background music in severa
 l MTV programs. \"Take a cool blend of jazz, bossa nova, funk and beat
 nik swing, add the Jack Kerouc-style phrasing of frontman Tom Stenquis
 t and you have Boston-based Lars Vegas, the perfect picture of 90’s 
 lounge-rock.\"--Chicago Sun Times. \"This is music for black-night-of-
 the-soul cocktail parties. The instrumental sextet behind Stenquist sw
 erves expertly from no-wave dissonance to sublime lounge jazz at the d
 rop of a pineapple garnish.\"--L.A. Weekly.\n\nFor more information vi
 sit http://neighborsforneighbors.org/events/lars-vegas-the-one-only
DTSTART:20100219T030000Z
DTEND:20100219T060000Z
CATEGORIES:"cocktail/lounge/swing"
LOCATION:The Alchemist Lounge
WEBSITE:Http://alchemistlounge.com
URL:Http://alchemistlounge.com
CONTACT:617-477-5741
ORGANIZER;CN=Lyndon:http://neighborsforneighbors.org/profile/Lyndon
ATTACH;FMTTYPE="image/jpeg":http://storage.ning.com/topology/rest/1.0/
 file/get/2245125043?profile=original
ATTENDEE;ROLE=REQ-PARTICIPANT;PARTSTAT=ACCEPTED;RSVP=TRUE;CN=Lyndon:ht
 tp://neighborsforneighbors.org/profile/Lyndon
END:VEVENT
END:VCALENDAR
