BEGIN:VCALENDAR
PRODID:NingEventWidget-v1
VERSION:2.0
METHOD:PUBLISH
BEGIN:VEVENT
UID:1171189:Event:108391
DTSTAMP:20260422T011847Z
SUMMARY:Late Night Story Jam!
DESCRIPTION:Late night comedic storytelling night featuring Women In C
 omedy Festival acts, along with stories from the audience (optional). 
 Tickets online - $12 - at WomenInComedyFestival.com. \n\nFor more inf
 ormation visit http://neighborsforneighbors.org/events/late-night-stor
 y-jam
DTSTART:20140511T030000Z
DTEND:20140511T040000Z
CATEGORIES:storytelling, comedy
LOCATION:Improv Boston
WEBSITE:http://www.womenincomedyfestival.com/shows/2014/improvbostonsa
 turday11pm
URL:http://www.womenincomedyfestival.com/shows/2014/improvbostonsaturd
 ay11pm
CONTACT:
ORGANIZER;CN="Robin Maxfield":http://neighborsforneighbors.org/profile
 /RobinMaxfield800
ATTACH;FMTTYPE="image/jpeg":
ATTENDEE;ROLE=REQ-PARTICIPANT;PARTSTAT=ACCEPTED;RSVP=TRUE;CN="Robin Ma
 xfield":http://neighborsforneighbors.org/profile/RobinMaxfield800
END:VEVENT
END:VCALENDAR
