BEGIN:VCALENDAR
PRODID:NingEventWidget-v1
VERSION:2.0
METHOD:PUBLISH
BEGIN:VEVENT
UID:1171189:Event:64759
DTSTAMP:20260421T194051Z
SUMMARY:Latin Dance Workout
DESCRIPTION:Come try our newly fun and interactive latin dance workout
 . The ultimate learning to dance/workout experience. \n\nLearn to dan
 ce while having fun. We encourage you to add your own flare. No partne
 r is required.  Come have a blast while staying fit! Come join us!\n\
 nSneakers and comfortable gym clothing is encourage\n\n\nFor more info
 rmation visit http://neighborsforneighbors.org/events/latin-dance-work
 out
DTSTART:20110204T001500Z
DTEND:20110204T011500Z
CATEGORIES:dancing
LOCATION:Tony Williams Dance Center
WEBSITE:http://www.zeboston.com/Schedule?eventId=256819&EventViewMode=
 EventDetails
URL:http://www.zeboston.com/Schedule?eventId=256819&EventViewMode=Even
 tDetails
CONTACT:617-942-1130
ORGANIZER;CN=Jonathan:http://neighborsforneighbors.org/profile/Jonatha
 n941
ATTACH;FMTTYPE="image/jpeg":
ATTENDEE;ROLE=REQ-PARTICIPANT;PARTSTAT=ACCEPTED;RSVP=TRUE;CN=Jonathan:
 http://neighborsforneighbors.org/profile/Jonathan941
END:VEVENT
END:VCALENDAR
